Workbook
Name Hidden_13: Hidden_1!$A$1:$A$11
Name Hidden_211: Hidden_2!$A$1:$A$2

Sheet Reporte de Formatos
A1: 56156
A2: TÍTULO | D2: NOMBRE CORTO | G2: DESCRIPCIÓN
A3: Remuneraciones brutas y netas de todas las personas servidoras públicas de base y de confianza | D3: LTAIPSLP84XI | G3: La información relativa a la remuneración mensual bruta y neta de conformidad con el tabulador de sueldos y salarios aplicable a cada sujeto obligado, así como todos los conceptos que sean adicionales y distintos a las remuneraciones, especificando la periodicidad con que se otorga cada uno de éstos (quincenal, mensual, semestral, anual, por única ocasión, etcétera)
A4: 1 | B4: 4 | C4: 4 | D4: 9 | E4: 1 | F4: 2 | G4: 2 | H4: 2 | I4: 1 | J4: 1 | K4: 1 | L4: 9 | M4: 6 | N4: 1 | O4: 6 | P4: 1 | Q4: 10 | R4: 10 | S4: 10 | T4: 10 | U4: 10 | V4: 10 | W4: 10 | X4: 10 | Y4: 10 | Z4: 10 | AA4: 10 | AB4: 10 | AC4: 10 | AD4: 2 | AE4: 13 | AF4: 14
A5: 549532 | B5: 549544 | C5: 549524 | D5: 549545 | E5: 549546 | F5: 549527 | G5: 549533 | H5: 549534 | I5: 549535 | J5: 549528 | K5: 549525 | L5: 571587 | M5: 549547 | N5: 549548 | O5: 549537 | P5: 549526 | Q5: 549551 | R5: 549538 | S5: 549552 | T5: 549522 | U5: 549542 | V5: 549529 | W5: 549539 | X5: 549530 | Y5: 549531 | Z5: 549549 | AA5: 549553 | AB5: 549550 | AC5: 549554 | AD5: 549540 | AE5: 549543 | AF5: 549523
A6: Tabla Campos
A7: Ejercicio | B7: Fecha de inicio del periodo que se informa | C7: Fecha de término del periodo que se informa | D7: Tipo de integrante del sujeto obligado (catálogo) | E7: Clave o nivel del puesto | F7: Denominación o descripción del puesto (Redactados con perspectiva de género) | G7: Denominación del cargo (de conformidad con el nombramiento otorgado) | H7: Área de adscripción | I7: Nombre (s) | J7: Primer apellido | K7: Segundo apellido | L7: ESTE CRITERIO APLICA A PARTIR DEL 01/04/2023 -> Sexo (catálogo ) | M7: Monto de la remuneración mensual bruta, de conformidad al Tabulador de sueldos y salarios que corresponda | N7: Tipo de moneda de la remuneración mensual bruta | O7: Monto de la remuneración mensual neta, de conformidad al Tabulador de sueldos y salarios que corresponda | P7: Tipo de moneda de la remuneración mensual neta | Q7: Percepciones adicionales en dinero, Monto bruto y neto, tipo de moneda y su periodicidad Tabla_549551 | R7: Percepciones adicionales en especie y su periodicidad Tabla_549538 | S7: Ingresos, monto bruto y neto, tipo de moneda y su periodicidad Tabla_549552 | T7: Sistemas de compensación, monto bruto y neto, tipo de moneda y su periodicidad Tabla_549522 | U7: Gratificaciones, monto bruto y neto, tipo de moneda y su periodicidad Tabla_549542 | V7: Primas, monto bruto y neto, tipo de moneda y su periodicidad Tabla_549529 | W7: Comisiones, monto bruto y neto, tipo de moneda y su periodicidad Tabla_549539 | X7: Dietas, monto bruto y neto, tipo de moneda y su periodicidad Tabla_549530 | Y7: Bonos, monto bruto y neto, tipo de moneda y su periodicidad Tabla_549531 | Z7: Estímulos, monto bruto y neto, tipo de moneda y su periodicidad Tabla_549549 | AA7: Apoyos económicos, monto bruto y neto, tipo de moneda y su periodicidad Tabla_549553 | AB7: Prestaciones económicas, monto bruto y neto, tipo de moneda y su periodicidad Tabla_549550 | AC7: Prestaciones en especie y su periodicidad Tabla_549554 | AD7: Área(s) responsable(s) que genera(n), posee(n), publica(n) y actualizan la información | AE7: Fecha de Actualización | AF7: Nota
A8: 2025 | B8: 45962 | C8: 45991 | D8: Otro | E8: 0 | F8: Técnico en rehabilitación | G8: Técnico en rehabilitación | H8: Academica | I8: Luz Elena | J8: Anguiano | K8: Monsivais | L8: Mujer | M8: 20618.1 | N8: pesos | O8: 18315 | P8: pesos | Q8: =Tabla_549551!B4 -> Este Organismo no genera percepciones adicionales en dinero. Con fundamento legal en la Ley de Presupuesto de Egresos del Estado de San Luis Potosi para el ejercicio fiscal 2024, están consideradas en la mencionada Ley más sin embargo no son generados por este Sujeto Obligado. | R8: =Tabla_549538!B4 -> Este Organismo no genera percepciones adicionales en especie Con fundamento legal en la Ley de Presupuesto de Egresos del Estado de San Luis Potosi para el ejercicio fiscal 2024, están consideradas en la mencionada Ley más sin embargo no son generados por este Sujeto Obligado. | S8: 20618.1 | T8: 18315 | U8: =Tabla_549542!C6 -> 27490.81 | V8: =Tabla_549529!D6 -> 0 | W8: =Tabla_549539!B4 -> Este Organismo no genera percepciones por comisiones. Con fundamento legal en la Ley de Presupuesto de Egresos del Estado de San Luis Potosi para el ejercicio fiscal 2024, están consideradas en la mencionada Ley más sin embargo no son generados por este Sujeto Obligado. | X8: =Tabla_549530!B4 -> Este Organismo no genera percepciones por dietas Con fundamento legal en la Ley de Presupuesto de Egresos del Estado de San Luis Potosi para el ejercicio fiscal 2024, están consideradas en la mencionada Ley más sin embargo no son generados por este Sujeto Obligado. | Y8: =Tabla_549531!B4 -> Este Organismo no genera percepciones por bonos. Con fundamento legal en la Ley de Presupuesto de Egresos del Estado de San Luis Potosi para el ejercicio fiscal 2024, están consideradas en la mencionada Ley más sin embargo no son generados por este Sujeto Obligado. | Z8: =Tabla_549549!D6 -> 1374.19 | AA8: =Tabla_549553!B4 -> Este Organismo no genera apoyos económicos. Con fundamento legal en la Ley de Presupuesto de Egresos del Estado de San Luis Potosi para el ejercicio fiscal 2024, están consideradas en la mencionada Ley más sin embargo no son generados por este Sujeto Obligado. | AB8: =Tabla_549550!B4 -> Este Organismo no genera prestaciones económicas. Con fundamento legal en la Ley de Presupuesto de Egresos del Estado de San Luis Potosi para el ejercicio fiscal 2024, están consideradas en la mencionada Ley más sin embargo no son generados por este Sujeto Obligado. | AC8: =Tabla_549554!B4 -> Este Organismo no genera prestaciones en especie Con fundamento legal en la Ley de Presupuesto de Egresos del Estado de San Luis Potosi para el ejercicio fiscal 2024, están consideradas en la mencionada Ley más sin embargo no son generados por este Sujeto Obligado. | AD8: Dirección General | AE8: 45992 | AF8: No se genera toda vez que no existe en el tabulador
A9: 2025 | B9: 45962 | C9: 45991 | D9: Otro | E9: 0 | F9: Guardia nocturna | G9: Guardia nocturna | H9: Internado | I9: Juana María | J9: Morales | K9: Esquivel | L9: Mujer | M9: 11096.76 | N9: pesos | O9: 8747 | P9: pesos | Q9: =Tabla_549551!B5 -> Este Organismo no genera percepciones adicionales en dinero. Con fundamento legal en la Ley de Presupuesto de Egresos del Estado de San Luis Potosi para el ejercicio fiscal 2024, están consideradas en la mencionada Ley más sin embargo no son generados por este Sujeto Obligado. | R9: =Tabla_549538!B5 -> Este Organismo no genera percepciones adicionales en especie Con fundamento legal en la Ley de Presupuesto de Egresos del Estado de San Luis Potosi para el ejercicio fiscal 2024, están consideradas en la mencionada Ley más sin embargo no son generados por este Sujeto Obligado. | S9: 11096.76 | T9: 8747 | U9: =Tabla_549542!C8 -> 14460.93 | V9: =Tabla_549529!D8 -> 458.18 | W9: =Tabla_549539!B5 -> Este Organismo no genera percepciones por comisiones. Con fundamento legal en la Ley de Presupuesto de Egresos del Estado de San Luis Potosi para el ejercicio fiscal 2024, están consideradas en la mencionada Ley más sin embargo no son generados por este Sujeto Obligado. | X9: =Tabla_549530!B5 -> Este Organismo no genera percepciones por dietas Con fundamento legal en la Ley de Presupuesto de Egresos del Estado de San Luis Potosi para el ejercicio fiscal 2024, están consideradas en la mencionada Ley más sin embargo no son generados por este Sujeto Obligado. | Y9: =Tabla_549531!B5 -> Este Organismo no genera percepciones por bonos. Con fundamento legal en la Ley de Presupuesto de Egresos del Estado de San Luis Potosi para el ejercicio fiscal 2024, están consideradas en la mencionada Ley más sin embargo no son generados por este Sujeto Obligado. | Z9: =Tabla_549549!D8 -> 0 | AA9: =Tabla_549553!B5 -> Este Organismo no genera apoyos económicos. Con fundamento legal en la Ley de Presupuesto de Egresos del Estado de San Luis Potosi para el ejercicio fiscal 2024, están consideradas en la mencionada Ley más sin embargo no son generados por este Sujeto Obligado. | AB9: =Tabla_549550!B5 -> Este Organismo no genera prestaciones económicas. Con fundamento legal en la Ley de Presupuesto de Egresos del Estado de San Luis Potosi para el ejercicio fiscal 2024, están consideradas en la mencionada Ley más sin embargo no son generados por este Sujeto Obligado. | AC9: =Tabla_549554!B5 -> Este Organismo no genera prestaciones en especie Con fundamento legal en la Ley de Presupuesto de Egresos del Estado de San Luis Potosi para el ejercicio fiscal 2024, están consideradas en la mencionada Ley más sin embargo no son generados por este Sujeto Obligado. | AD9: Dirección General | AE9: 45992 | AF9: No se genera toda vez que no existe en el tabulador
A10: 2025 | B10: 45962 | C10: 45991 | D10: Otro | E10: 0 | F10: Chofer y servicios generales | G10: Chofer y servicios generales | H10: Administrativa | I10: Carlos Alberto | J10: Fuentes | K10: García | L10: Hombre | M10: 17119.2 | N10: pesos | O10: 15321 | P10: pesos | Q10: =Tabla_549551!B6 -> Este Organismo no genera percepciones adicionales en dinero. Con fundamento legal en la Ley de Presupuesto de Egresos del Estado de San Luis Potosi para el ejercicio fiscal 2024, están consideradas en la mencionada Ley más sin embargo no son generados por este Sujeto Obligado. | R10: =Tabla_549538!B6 -> Este Organismo no genera percepciones adicionales en especie Con fundamento legal en la Ley de Presupuesto de Egresos del Estado de San Luis Potosi para el ejercicio fiscal 2024, están consideradas en la mencionada Ley más sin embargo no son generados por este Sujeto Obligado. | S10: 17119.2 | T10: 15321 | U10: =Tabla_549542!C10 -> 22825.48 | V10: =Tabla_549529!D10 -> 0 | W10: =Tabla_549539!B6 -> Este Organismo no genera percepciones por comisiones. Con fundamento legal en la Ley de Presupuesto de Egresos del Estado de San Luis Potosi para el ejercicio fiscal 2024, están consideradas en la mencionada Ley más sin embargo no son generados por este Sujeto Obligado. | X10: =Tabla_549530!B6 -> Este Organismo no genera percepciones por dietas Con fundamento legal en la Ley de Presupuesto de Egresos del Estado de San Luis Potosi para el ejercicio fiscal 2024, están consideradas en la mencionada Ley más sin embargo no son generados por este Sujeto Obligado. | Y10: =Tabla_549531!B6 -> Este Organismo no genera percepciones por bonos. Con fundamento legal en la Ley de Presupuesto de Egresos del Estado de San Luis Potosi para el ejercicio fiscal 2024, están consideradas en la mencionada Ley más sin embargo no son generados por este Sujeto Obligado. | Z10: =Tabla_549549!D10 -> 1140.99 | AA10: =Tabla_549553!B6 -> Este Organismo no genera apoyos económicos. Con fundamento legal en la Ley de Presupuesto de Egresos del Estado de San Luis Potosi para el ejercicio fiscal 2024, están consideradas en la mencionada Ley más sin embargo no son generados por este Sujeto Obligado. | AB10: =Tabla_549550!B6 -> Este Organismo no genera prestaciones económicas. Con fundamento legal en la Ley de Presupuesto de Egresos del Estado de San Luis Potosi para el ejercicio fiscal 2024, están consideradas en la mencionada Ley más sin embargo no son generados por este Sujeto Obligado. | AC10: =Tabla_549554!B6 -> Este Organismo no genera prestaciones en especie Con fundamento legal en la Ley de Presupuesto de Egresos del Estado de San Luis Potosi para el ejercicio fiscal 2024, están consideradas en la mencionada Ley más sin embargo no son generados por este Sujeto Obligado. | AD10: Dirección General | AE10: 45992 | AF10: No se genera toda vez que no existe en el tabulador
A11: 2025 | B11: 45962 | C11: 45991 | D11: Otro | E11: 0 | F11: Profesora | G11: Profesora | H11: Academica | I11: Dulce Ivonne | J11: González | K11: Muñiz | L11: Mujer | M11: 17238.3 | N11: pesos | O11: 9176 | P11: pesos | Q11: =Tabla_549551!B7 -> Este Organismo no genera percepciones adicionales en dinero. Con fundamento legal en la Ley de Presupuesto de Egresos del Estado de San Luis Potosi para el ejercicio fiscal 2024, están consideradas en la mencionada Ley más sin embargo no son generados por este Sujeto Obligado. | R11: =Tabla_549538!B7 -> Este Organismo no genera percepciones adicionales en especie Con fundamento legal en la Ley de Presupuesto de Egresos del Estado de San Luis Potosi para el ejercicio fiscal 2024, están consideradas en la mencionada Ley más sin embargo no son generados por este Sujeto Obligado. | S11: 17238.3 | T11: 9176 | U11: =Tabla_549542!C11 -> 22984.4 | V11: =Tabla_549529!D11 -> 0 | W11: =Tabla_549539!B7 -> Este Organismo no genera percepciones por comisiones. Con fundamento legal en la Ley de Presupuesto de Egresos del Estado de San Luis Potosi para el ejercicio fiscal 2024, están consideradas en la mencionada Ley más sin embargo no son generados por este Sujeto Obligado. | X11: =Tabla_549530!B7 -> Este Organismo no genera percepciones por dietas Con fundamento legal en la Ley de Presupuesto de Egresos del Estado de San Luis Potosi para el ejercicio fiscal 2024, están consideradas en la mencionada Ley más sin embargo no son generados por este Sujeto Obligado. | Y11: =Tabla_549531!B7 -> Este Organismo no genera percepciones por bonos. Con fundamento legal en la Ley de Presupuesto de Egresos del Estado de San Luis Potosi para el ejercicio fiscal 2024, están consideradas en la mencionada Ley más sin embargo no son generados por este Sujeto Obligado. | Z11: =Tabla_549549!D11 -> 1149.22 | AA11: =Tabla_549553!B7 -> Este Organismo no genera apoyos económicos. Con fundamento legal en la Ley de Presupuesto de Egresos del Estado de San Luis Potosi para el ejercicio fiscal 2024, están consideradas en la mencionada Ley más sin embargo no son generados por este Sujeto Obligado. | AB11: =Tabla_549550!B7 -> Este Organismo no genera prestaciones económicas. Con fundamento legal en la Ley de Presupuesto de Egresos del Estado de San Luis Potosi para el ejercicio fiscal 2024, están consideradas en la mencionada Ley más sin embargo no son generados por este Sujeto Obligado. | AC11: =Tabla_549554!B7 -> Este Organismo no genera prestaciones en especie Con fundamento legal en la Ley de Presupuesto de Egresos del Estado de San Luis Potosi para el ejercicio fiscal 2024, están consideradas en la mencionada Ley más sin embargo no son generados por este Sujeto Obligado. | AD11: Dirección General | AE11: 45992 | AF11: No se genera toda vez que no existe en el tabulador
A12: 2025 | B12: 45962 | C12: 45991 | D12: Otro | E12: 0 | F12: Guardia de fin de semana | G12: Guardia de fin de semana | H12: Internado | I12: Claudia Lizeth | J12: Almendárez | K12: García | L12: Mujer | M12: 8800.77 | N12: pesos | O12: 7977.8 | P12: pesos | Q12: =Tabla_549551!B8 -> Este Organismo no genera percepciones adicionales en dinero. Con fundamento legal en la Ley de Presupuesto de Egresos del Estado de San Luis Potosi para el ejercicio fiscal 2024, están consideradas en la mencionada Ley más sin embargo no son generados por este Sujeto Obligado. | R12: =Tabla_549538!B8 -> Este Organismo no genera percepciones adicionales en especie Con fundamento legal en la Ley de Presupuesto de Egresos del Estado de San Luis Potosi para el ejercicio fiscal 2024, están consideradas en la mencionada Ley más sin embargo no son generados por este Sujeto Obligado. | S12: 8800.77 | T12: 7977.8 | U12: =Tabla_549542!C13 -> 0 | V12: 503.61 | W12: =Tabla_549539!B8 -> Este Organismo no genera percepciones por comisiones. Con fundamento legal en la Ley de Presupuesto de Egresos del Estado de San Luis Potosi para el ejercicio fiscal 2024, están consideradas en la mencionada Ley más sin embargo no son generados por este Sujeto Obligado. | X12: =Tabla_549530!B8 -> Este Organismo no genera percepciones por dietas Con fundamento legal en la Ley de Presupuesto de Egresos del Estado de San Luis Potosi para el ejercicio fiscal 2024, están consideradas en la mencionada Ley más sin embargo no son generados por este Sujeto Obligado. | Y12: =Tabla_549531!B8 -> Este Organismo no genera percepciones por bonos. Con fundamento legal en la Ley de Presupuesto de Egresos del Estado de San Luis Potosi para el ejercicio fiscal 2024, están consideradas en la mencionada Ley más sin embargo no son generados por este Sujeto Obligado. | Z12: =Tabla_549549!D13 -> 0 | AA12: =Tabla_549553!B8 -> Este Organismo no genera apoyos económicos. Con fundamento legal en la Ley de Presupuesto de Egresos del Estado de San Luis Potosi para el ejercicio fiscal 2024, están consideradas en la mencionada Ley más sin embargo no son generados por este Sujeto Obligado. | AB12: =Tabla_549550!B8 -> Este Organismo no genera prestaciones económicas. Con fundamento legal en la Ley de Presupuesto de Egresos del Estado de San Luis Potosi para el ejercicio fiscal 2024, están consideradas en la mencionada Ley más sin embargo no son generados por este Sujeto Obligado. | AC12: =Tabla_549554!B8 -> Este Organismo no genera prestaciones en especie Con fundamento legal en la Ley de Presupuesto de Egresos del Estado de San Luis Potosi para el ejercicio fiscal 2024, están consideradas en la mencionada Ley más sin embargo no son generados por este Sujeto Obligado. | AD12: Dirección General | AE12: 45992 | AF12: No se genera toda vez que no existe en el tabulador
A13: 2025 | B13: 45962 | C13: 45991 | D13: Personal de confianza | E13: 0 | F13: Emcargada de Despacho | G13: Emcargada de Despacho | H13: Dirección General | I13: Perla Ashely | J13: Campos | K13: Martínez | L13: Mujer | M13: 30786.3 | N13: pesos | O13: 25000 | P13: pesos | Q13: =Tabla_549551!B9 -> Este Organismo no genera percepciones adicionales en dinero. Con fundamento legal en la Ley de Presupuesto de Egresos del Estado de San Luis Potosi para el ejercicio fiscal 2024, están consideradas en la mencionada Ley más sin embargo no son generados por este Sujeto Obligado. | R13: =Tabla_549538!B9 -> Este Organismo no genera percepciones adicionales en especie Con fundamento legal en la Ley de Presupuesto de Egresos del Estado de San Luis Potosi para el ejercicio fiscal 2024, están consideradas en la mencionada Ley más sin embargo no son generados por este Sujeto Obligado. | S13: 30786.3 | T13: 25000 | U13: =Tabla_549542!C14 -> 81900 | V13: =Tabla_549529!D14 -> 0 | W13: =Tabla_549539!B9 -> Este Organismo no genera percepciones por comisiones. Con fundamento legal en la Ley de Presupuesto de Egresos del Estado de San Luis Potosi para el ejercicio fiscal 2024, están consideradas en la mencionada Ley más sin embargo no son generados por este Sujeto Obligado. | X13: =Tabla_549530!B9 -> Este Organismo no genera percepciones por dietas Con fundamento legal en la Ley de Presupuesto de Egresos del Estado de San Luis Potosi para el ejercicio fiscal 2024, están consideradas en la mencionada Ley más sin embargo no son generados por este Sujeto Obligado. | Y13: =Tabla_549531!B9 -> Este Organismo no genera percepciones por bonos. Con fundamento legal en la Ley de Presupuesto de Egresos del Estado de San Luis Potosi para el ejercicio fiscal 2024, están consideradas en la mencionada Ley más sin embargo no son generados por este Sujeto Obligado. | Z13: =Tabla_549549!D14 -> 0 | AA13: =Tabla_549553!B9 -> Este Organismo no genera apoyos económicos. Con fundamento legal en la Ley de Presupuesto de Egresos del Estado de San Luis Potosi para el ejercicio fiscal 2024, están consideradas en la mencionada Ley más sin embargo no son generados por este Sujeto Obligado. | AB13: =Tabla_549550!B9 -> Este Organismo no genera prestaciones económicas. Con fundamento legal en la Ley de Presupuesto de Egresos del Estado de San Luis Potosi para el ejercicio fiscal 2024, están consideradas en la mencionada Ley más sin embargo no son generados por este Sujeto Obligado. | AC13: =Tabla_549554!B9 -> Este Organismo no genera prestaciones en especie Con fundamento legal en la Ley de Presupuesto de Egresos del Estado de San Luis Potosi para el ejercicio fiscal 2024, están consideradas en la mencionada Ley más sin embargo no son generados por este Sujeto Obligado. | AD13: Dirección General | AE13: 45992 | AF13: No se genera toda vez que no existe en el tabulador
A14: 2025 | B14: 45962 | C14: 45991 | D14: Otro | E14: 0 | F14: Administrador | G14: Encargado de Area Administrativa | H14: Administrativa | I14: Hugo Emmanuel | J14: Lara | K14: Zavala | L14: Hombre | M14: 24183 | N14: pesos | O14: 20000 | P14: pesos | Q14: =Tabla_549551!B10 -> Este Organismo no genera percepciones adicionales en dinero. Con fundamento legal en la Ley de Presupuesto de Egresos del Estado de San Luis Potosi para el ejercicio fiscal 2024, están consideradas en la mencionada Ley más sin embargo no son generados por este Sujeto Obligado. | R14: =Tabla_549538!B10 -> Este Organismo no genera percepciones adicionales en especie Con fundamento legal en la Ley de Presupuesto de Egresos del Estado de San Luis Potosi para el ejercicio fiscal 2024, están consideradas en la mencionada Ley más sin embargo no son generados por este Sujeto Obligado. | S14: 24183 | T14: 20000 | U14: 0 | V14: 0 | W14: =Tabla_549539!B10 -> Este Organismo no genera percepciones por comisiones. Con fundamento legal en la Ley de Presupuesto de Egresos del Estado de San Luis Potosi para el ejercicio fiscal 2024, están consideradas en la mencionada Ley más sin embargo no son generados por este Sujeto Obligado. | X14: =Tabla_549530!B10 -> Este Organismo no genera percepciones por dietas Con fundamento legal en la Ley de Presupuesto de Egresos del Estado de San Luis Potosi para el ejercicio fiscal 2024, están consideradas en la mencionada Ley más sin embargo no son generados por este Sujeto Obligado. | Y14: =Tabla_549531!B10 -> Este Organismo no genera percepciones por bonos. Con fundamento legal en la Ley de Presupuesto de Egresos del Estado de San Luis Potosi para el ejercicio fiscal 2024, están consideradas en la mencionada Ley más sin embargo no son generados por este Sujeto Obligado. | Z14: 0 | AA14: =Tabla_549553!B10 -> Este Organismo no genera apoyos económicos. Con fundamento legal en la Ley de Presupuesto de Egresos del Estado de San Luis Potosi para el ejercicio fiscal 2024, están consideradas en la mencionada Ley más sin embargo no son generados por este Sujeto Obligado. | AB14: =Tabla_549550!B10 -> Este Organismo no genera prestaciones económicas. Con fundamento legal en la Ley de Presupuesto de Egresos del Estado de San Luis Potosi para el ejercicio fiscal 2024, están consideradas en la mencionada Ley más sin embargo no son generados por este Sujeto Obligado. | AC14: =Tabla_549554!B10 -> Este Organismo no genera prestaciones en especie Con fundamento legal en la Ley de Presupuesto de Egresos del Estado de San Luis Potosi para el ejercicio fiscal 2024, están consideradas en la mencionada Ley más sin embargo no son generados por este Sujeto Obligado. | AD14: Dirección General | AE14: 45992 | AF14: No se genera toda vez que no existe en el tabulador
A15: 2025 | B15: 45962 | C15: 45991 | D15: Otro | E15: 0 | F15: Psicologa | G15: Psicologa | H15: Académica | I15: Liliana | J15: Puebla | K15: Rico | L15: Mujer | M15: 17583 | N15: pesos | O15: 15002 | P15: pesos | Q15: =Tabla_549551!B11 -> Este Organismo no genera percepciones adicionales en dinero. Con fundamento legal en la Ley de Presupuesto de Egresos del Estado de San Luis Potosi para el ejercicio fiscal 2024, están consideradas en la mencionada Ley más sin embargo no son generados por este Sujeto Obligado. | R15: =Tabla_549538!B11 -> Este Organismo no genera percepciones adicionales en especie Con fundamento legal en la Ley de Presupuesto de Egresos del Estado de San Luis Potosi para el ejercicio fiscal 2024, están consideradas en la mencionada Ley más sin embargo no son generados por este Sujeto Obligado. | S15: 17583 | T15: 15002 | U15: 0 | V15: 0 | W15: =Tabla_549539!B11 -> Este Organismo no genera percepciones por comisiones. Con fundamento legal en la Ley de Presupuesto de Egresos del Estado de San Luis Potosi para el ejercicio fiscal 2024, están consideradas en la mencionada Ley más sin embargo no son generados por este Sujeto Obligado. | X15: =Tabla_549530!B11 -> Este Organismo no genera percepciones por dietas Con fundamento legal en la Ley de Presupuesto de Egresos del Estado de San Luis Potosi para el ejercicio fiscal 2024, están consideradas en la mencionada Ley más sin embargo no son generados por este Sujeto Obligado. | Y15: =Tabla_549531!B11 -> Este Organismo no genera percepciones por bonos. Con fundamento legal en la Ley de Presupuesto de Egresos del Estado de San Luis Potosi para el ejercicio fiscal 2024, están consideradas en la mencionada Ley más sin embargo no son generados por este Sujeto Obligado. | AA15: =Tabla_549553!B11 -> Este Organismo no genera apoyos económicos. Con fundamento legal en la Ley de Presupuesto de Egresos del Estado de San Luis Potosi para el ejercicio fiscal 2024, están consideradas en la mencionada Ley más sin embargo no son generados por este Sujeto Obligado. | AB15: =Tabla_549550!B11 -> Este Organismo no genera prestaciones económicas. Con fundamento legal en la Ley de Presupuesto de Egresos del Estado de San Luis Potosi para el ejercicio fiscal 2024, están consideradas en la mencionada Ley más sin embargo no son generados por este Sujeto Obligado. | AC15: =Tabla_549554!B11 -> Este Organismo no genera prestaciones en especie Con fundamento legal en la Ley de Presupuesto de Egresos del Estado de San Luis Potosi para el ejercicio fiscal 2024, están consideradas en la mencionada Ley más sin embargo no son generados por este Sujeto Obligado. | AD15: Dirección General | AE15: 45992 | AF15: No se genera toda vez que no existe en el tabulador
A16: 2025 | B16: 45962 | C16: 45991 | D16: Otro | E16: 0 | F16: Auxiliar Contable | G16: Auxiliar Contable | H16: Administrativa | I16: Pedro | J16: Amador | K16: Zarate | L16: Hombre | M16: 11000 | N16: pesos | O16: 9835.6 | P16: pesos | Q16: =Tabla_549551!B12 -> Este Organismo no genera percepciones adicionales en dinero. Con fundamento legal en la Ley de Presupuesto de Egresos del Estado de San Luis Potosi para el ejercicio fiscal 2024, están consideradas en la mencionada Ley más sin embargo no son generados por este Sujeto Obligado. | R16: =Tabla_549538!B12 -> Este Organismo no genera percepciones adicionales en especie Con fundamento legal en la Ley de Presupuesto de Egresos del Estado de San Luis Potosi para el ejercicio fiscal 2024, están consideradas en la mencionada Ley más sin embargo no son generados por este Sujeto Obligado. | S16: 11000 | T16: 9835.6 | U16: 0 | V16: 0 | W16: =Tabla_549539!B12 -> Este Organismo no genera percepciones por comisiones. Con fundamento legal en la Ley de Presupuesto de Egresos del Estado de San Luis Potosi para el ejercicio fiscal 2024, están consideradas en la mencionada Ley más sin embargo no son generados por este Sujeto Obligado. | X16: =Tabla_549530!B12 -> Este Organismo no genera percepciones por dietas Con fundamento legal en la Ley de Presupuesto de Egresos del Estado de San Luis Potosi para el ejercicio fiscal 2024, están consideradas en la mencionada Ley más sin embargo no son generados por este Sujeto Obligado. | Y16: =Tabla_549531!B12 -> Este Organismo no genera percepciones por bonos. Con fundamento legal en la Ley de Presupuesto de Egresos del Estado de San Luis Potosi para el ejercicio fiscal 2024, están consideradas en la mencionada Ley más sin embargo no son generados por este Sujeto Obligado. | Z16: 0 | AA16: =Tabla_549553!B12 -> Este Organismo no genera apoyos económicos. Con fundamento legal en la Ley de Presupuesto de Egresos del Estado de San Luis Potosi para el ejercicio fiscal 2024, están consideradas en la mencionada Ley más sin embargo no son generados por este Sujeto Obligado. | AB16: =Tabla_549550!B12 -> Este Organismo no genera prestaciones económicas. Con fundamento legal en la Ley de Presupuesto de Egresos del Estado de San Luis Potosi para el ejercicio fiscal 2024, están consideradas en la mencionada Ley más sin embargo no son generados por este Sujeto Obligado. | AC16: =Tabla_549554!B12 -> Este Organismo no genera prestaciones en especie Con fundamento legal en la Ley de Presupuesto de Egresos del Estado de San Luis Potosi para el ejercicio fiscal 2024, están consideradas en la mencionada Ley más sin embargo no son generados por este Sujeto Obligado. | AD16: Dirección General | AE16: 45992 | AF16: No se genera toda vez que no existe en el tabulador
A17: 2025 | B17: 45962 | C17: 45991 | D17: Otro | E17: 0 | F17: Maestra de Preescolar | G17: Maestra de Preescolar | H17: Académica | I17: Andrea Monserrat | J17: Oviedo | K17: Zapata | L17: Mujer | M17: 9000 | N17: pesos | O17: 8109.6 | P17: pesos | Q17: =Tabla_549551!B13 -> Este Organismo no genera percepciones adicionales en dinero. Con fundamento legal en la Ley de Presupuesto de Egresos del Estado de San Luis Potosi para el ejercicio fiscal 2024, están consideradas en la mencionada Ley más sin embargo no son generados por este Sujeto Obligado. | R17: =Tabla_549538!B13 -> Este Organismo no genera percepciones adicionales en especie Con fundamento legal en la Ley de Presupuesto de Egresos del Estado de San Luis Potosi para el ejercicio fiscal 2024, están consideradas en la mencionada Ley más sin embargo no son generados por este Sujeto Obligado. | S17: 9000 | T17: 8109.6 | U17: 0 | V17: 0 | W17: =Tabla_549539!B13 -> Este Organismo no genera percepciones por comisiones. Con fundamento legal en la Ley de Presupuesto de Egresos del Estado de San Luis Potosi para el ejercicio fiscal 2024, están consideradas en la mencionada Ley más sin embargo no son generados por este Sujeto Obligado. | X17: =Tabla_549530!B13 -> Este Organismo no genera percepciones por dietas Con fundamento legal en la Ley de Presupuesto de Egresos del Estado de San Luis Potosi para el ejercicio fiscal 2024, están consideradas en la mencionada Ley más sin embargo no son generados por este Sujeto Obligado. | Y17: =Tabla_549531!B13 -> Este Organismo no genera percepciones por bonos. Con fundamento legal en la Ley de Presupuesto de Egresos del Estado de San Luis Potosi para el ejercicio fiscal 2024, están consideradas en la mencionada Ley más sin embargo no son generados por este Sujeto Obligado. | AA17: =Tabla_549553!B13 -> Este Organismo no genera apoyos económicos. Con fundamento legal en la Ley de Presupuesto de Egresos del Estado de San Luis Potosi para el ejercicio fiscal 2024, están consideradas en la mencionada Ley más sin embargo no son generados por este Sujeto Obligado. | AB17: =Tabla_549550!B13 -> Este Organismo no genera prestaciones económicas. Con fundamento legal en la Ley de Presupuesto de Egresos del Estado de San Luis Potosi para el ejercicio fiscal 2024, están consideradas en la mencionada Ley más sin embargo no son generados por este Sujeto Obligado. | AC17: =Tabla_549554!B13 -> Este Organismo no genera prestaciones en especie Con fundamento legal en la Ley de Presupuesto de Egresos del Estado de San Luis Potosi para el ejercicio fiscal 2024, están consideradas en la mencionada Ley más sin embargo no son generados por este Sujeto Obligado. | AD17: Dirección General | AE17: 45992 | AF17: No se genera toda vez que no existe en el tabulador
A18: 2025 | B18: 45962 | C18: 45991 | D18: Otro | E18: 0 | F18: Maestra de Multigrado I | G18: Maestra de Multigrado I | H18: Académica | I18: Fatima Gisela | J18: Saucedo | K18: Capetillo | L18: Mujer | M18: 11000 | N18: pesos | O18: 9838.6 | P18: pesos | Q18: =Tabla_549551!B14 -> Este Organismo no genera percepciones adicionales en dinero. Con fundamento legal en la Ley de Presupuesto de Egresos del Estado de San Luis Potosi para el ejercicio fiscal 2024, están consideradas en la mencionada Ley más sin embargo no son generados por este Sujeto Obligado. | R18: =Tabla_549538!B14 -> Este Organismo no genera percepciones adicionales en especie Con fundamento legal en la Ley de Presupuesto de Egresos del Estado de San Luis Potosi para el ejercicio fiscal 2024, están consideradas en la mencionada Ley más sin embargo no son generados por este Sujeto Obligado. | S18: 11000 | T18: 9838.6 | U18: 0 | V18: 0 | W18: =Tabla_549539!B14 -> Este Organismo no genera percepciones por comisiones. Con fundamento legal en la Ley de Presupuesto de Egresos del Estado de San Luis Potosi para el ejercicio fiscal 2024, están consideradas en la mencionada Ley más sin embargo no son generados por este Sujeto Obligado. | X18: =Tabla_549530!B14 -> Este Organismo no genera percepciones por dietas Con fundamento legal en la Ley de Presupuesto de Egresos del Estado de San Luis Potosi para el ejercicio fiscal 2024, están consideradas en la mencionada Ley más sin embargo no son generados por este Sujeto Obligado. | Y18: =Tabla_549531!B14 -> Este Organismo no genera percepciones por bonos. Con fundamento legal en la Ley de Presupuesto de Egresos del Estado de San Luis Potosi para el ejercicio fiscal 2024, están consideradas en la mencionada Ley más sin embargo no son generados por este Sujeto Obligado. | Z18: 0 | AA18: =Tabla_549553!B14 -> Este Organismo no genera apoyos económicos. Con fundamento legal en la Ley de Presupuesto de Egresos del Estado de San Luis Potosi para el ejercicio fiscal 2024, están consideradas en la mencionada Ley más sin embargo no son generados por este Sujeto Obligado. | AB18: =Tabla_549550!B14 -> Este Organismo no genera prestaciones económicas. Con fundamento legal en la Ley de Presupuesto de Egresos del Estado de San Luis Potosi para el ejercicio fiscal 2024, están consideradas en la mencionada Ley más sin embargo no son generados por este Sujeto Obligado. | AC18: =Tabla_549554!B14 -> Este Organismo no genera prestaciones en especie Con fundamento legal en la Ley de Presupuesto de Egresos del Estado de San Luis Potosi para el ejercicio fiscal 2024, están consideradas en la mencionada Ley más sin embargo no son generados por este Sujeto Obligado. | AD18: Dirección General | AE18: 45992 | AF18: No se genera toda vez que no existe en el tabulador
A19: 2025 | B19: 45962 | C19: 45991 | D19: Otro | E19: 0 | F19: Enfermera | G19: Enfermera | H19: Trabajo Social | I19: Claudia Valeria | J19: Ponce | K19: Cruz | L19: Mujer | M19: 11000 | N19: pesos | O19: 9835.6 | P19: pesos | Q19: =Tabla_549551!B15 -> Este Organismo no genera percepciones adicionales en dinero. Con fundamento legal en la Ley de Presupuesto de Egresos del Estado de San Luis Potosi para el ejercicio fiscal 2024, están consideradas en la mencionada Ley más sin embargo no son generados por este Sujeto Obligado. | R19: =Tabla_549538!B15 -> Este Organismo no genera percepciones adicionales en especie Con fundamento legal en la Ley de Presupuesto de Egresos del Estado de San Luis Potosi para el ejercicio fiscal 2024, están consideradas en la mencionada Ley más sin embargo no son generados por este Sujeto Obligado. | S19: 11000 | T19: 9835.6 | U19: 0 | V19: 0 | W19: =Tabla_549539!B15 -> Este Organismo no genera percepciones por comisiones. Con fundamento legal en la Ley de Presupuesto de Egresos del Estado de San Luis Potosi para el ejercicio fiscal 2024, están consideradas en la mencionada Ley más sin embargo no son generados por este Sujeto Obligado. | X19: =Tabla_549530!B15 -> Este Organismo no genera percepciones por dietas Con fundamento legal en la Ley de Presupuesto de Egresos del Estado de San Luis Potosi para el ejercicio fiscal 2024, están consideradas en la mencionada Ley más sin embargo no son generados por este Sujeto Obligado. | Y19: =Tabla_549531!B15 -> Este Organismo no genera percepciones por bonos. Con fundamento legal en la Ley de Presupuesto de Egresos del Estado de San Luis Potosi para el ejercicio fiscal 2024, están consideradas en la mencionada Ley más sin embargo no son generados por este Sujeto Obligado. | Z19: 0 | AA19: =Tabla_549553!B15 -> Este Organismo no genera apoyos económicos. Con fundamento legal en la Ley de Presupuesto de Egresos del Estado de San Luis Potosi para el ejercicio fiscal 2024, están consideradas en la mencionada Ley más sin embargo no son generados por este Sujeto Obligado. | AB19: =Tabla_549550!B15 -> Este Organismo no genera prestaciones económicas. Con fundamento legal en la Ley de Presupuesto de Egresos del Estado de San Luis Potosi para el ejercicio fiscal 2024, están consideradas en la mencionada Ley más sin embargo no son generados por este Sujeto Obligado. | AC19: =Tabla_549554!B15 -> Este Organismo no genera prestaciones en especie Con fundamento legal en la Ley de Presupuesto de Egresos del Estado de San Luis Potosi para el ejercicio fiscal 2024, están consideradas en la mencionada Ley más sin embargo no son generados por este Sujeto Obligado. | AD19: Dirección General | AE19: 45992 | AF19: No se genera toda vez que no existe en el tabulador
A20: 2025 | B20: 45962 | C20: 45991 | D20: Otro | E20: 0 | F20: Maestra | G20: Maestra | H20: Académica | I20: Dulce Pamela | J20: Lila | K20: Rodríguez | L20: Mujer | M20: 13500 | N20: pesos | O20: 11848.4 | P20: pesos | Q20: =Tabla_549551!B16 -> Este Organismo no genera percepciones adicionales en dinero. Con fundamento legal en la Ley de Presupuesto de Egresos del Estado de San Luis Potosi para el ejercicio fiscal 2024, están consideradas en la mencionada Ley más sin embargo no son generados por este Sujeto Obligado. | R20: =Tabla_549538!B16 -> Este Organismo no genera percepciones adicionales en especie Con fundamento legal en la Ley de Presupuesto de Egresos del Estado de San Luis Potosi para el ejercicio fiscal 2024, están consideradas en la mencionada Ley más sin embargo no son generados por este Sujeto Obligado. | S20: 13500 | T20: 11848.4 | U20: 0 | V20: 0 | W20: =Tabla_549539!B16 -> Este Organismo no genera percepciones por comisiones. Con fundamento legal en la Ley de Presupuesto de Egresos del Estado de San Luis Potosi para el ejercicio fiscal 2024, están consideradas en la mencionada Ley más sin embargo no son generados por este Sujeto Obligado. | X20: =Tabla_549530!B16 -> Este Organismo no genera percepciones por dietas Con fundamento legal en la Ley de Presupuesto de Egresos del Estado de San Luis Potosi para el ejercicio fiscal 2024, están consideradas en la mencionada Ley más sin embargo no son generados por este Sujeto Obligado. | Y20: =Tabla_549531!B16 -> Este Organismo no genera percepciones por bonos. Con fundamento legal en la Ley de Presupuesto de Egresos del Estado de San Luis Potosi para el ejercicio fiscal 2024, están consideradas en la mencionada Ley más sin embargo no son generados por este Sujeto Obligado. | AA20: =Tabla_549553!B16 -> Este Organismo no genera apoyos económicos. Con fundamento legal en la Ley de Presupuesto de Egresos del Estado de San Luis Potosi para el ejercicio fiscal 2024, están consideradas en la mencionada Ley más sin embargo no son generados por este Sujeto Obligado. | AB20: =Tabla_549550!B16 -> Este Organismo no genera prestaciones económicas. Con fundamento legal en la Ley de Presupuesto de Egresos del Estado de San Luis Potosi para el ejercicio fiscal 2024, están consideradas en la mencionada Ley más sin embargo no son generados por este Sujeto Obligado. | AC20: =Tabla_549554!B16 -> Este Organismo no genera prestaciones en especie Con fundamento legal en la Ley de Presupuesto de Egresos del Estado de San Luis Potosi para el ejercicio fiscal 2024, están consideradas en la mencionada Ley más sin embargo no son generados por este Sujeto Obligado. | AD20: Dirección General | AE20: 45992 | AF20: No se genera toda vez que no existe en el tabulador
A21: 2025 | B21: 45962 | C21: 45991 | D21: Otro | E21: 0 | F21: Trabajadora Social | G21: Trabajadora Social | H21: Trabajo Social | I21: Emily | J21: Flores | K21: Guerrero | L21: Mujer | M21: 11000 | N21: pesos | O21: 9838.6 | P21: pesos | Q21: =Tabla_549551!B17 -> Este Organismo no genera percepciones adicionales en dinero. Con fundamento legal en la Ley de Presupuesto de Egresos del Estado de San Luis Potosi para el ejercicio fiscal 2024, están consideradas en la mencionada Ley más sin embargo no son generados por este Sujeto Obligado. | R21: =Tabla_549538!B17 -> Este Organismo no genera percepciones adicionales en especie Con fundamento legal en la Ley de Presupuesto de Egresos del Estado de San Luis Potosi para el ejercicio fiscal 2024, están consideradas en la mencionada Ley más sin embargo no son generados por este Sujeto Obligado. | S21: 11000 | T21: 9838.6 | U21: 0 | V21: 0 | W21: =Tabla_549539!B17 -> Este Organismo no genera percepciones por comisiones. Con fundamento legal en la Ley de Presupuesto de Egresos del Estado de San Luis Potosi para el ejercicio fiscal 2024, están consideradas en la mencionada Ley más sin embargo no son generados por este Sujeto Obligado. | X21: =Tabla_549530!B17 -> Este Organismo no genera percepciones por dietas Con fundamento legal en la Ley de Presupuesto de Egresos del Estado de San Luis Potosi para el ejercicio fiscal 2024, están consideradas en la mencionada Ley más sin embargo no son generados por este Sujeto Obligado. | Y21: =Tabla_549531!B17 -> Este Organismo no genera percepciones por bonos. Con fundamento legal en la Ley de Presupuesto de Egresos del Estado de San Luis Potosi para el ejercicio fiscal 2024, están consideradas en la mencionada Ley más sin embargo no son generados por este Sujeto Obligado. | Z21: 0 | AA21: =Tabla_549553!B17 -> Este Organismo no genera apoyos económicos. Con fundamento legal en la Ley de Presupuesto de Egresos del Estado de San Luis Potosi para el ejercicio fiscal 2024, están consideradas en la mencionada Ley más sin embargo no son generados por este Sujeto Obligado. | AB21: =Tabla_549550!B17 -> Este Organismo no genera prestaciones económicas. Con fundamento legal en la Ley de Presupuesto de Egresos del Estado de San Luis Potosi para el ejercicio fiscal 2024, están consideradas en la mencionada Ley más sin embargo no son generados por este Sujeto Obligado. | AC21: =Tabla_549554!B17 -> Este Organismo no genera prestaciones en especie Con fundamento legal en la Ley de Presupuesto de Egresos del Estado de San Luis Potosi para el ejercicio fiscal 2024, están consideradas en la mencionada Ley más sin embargo no son generados por este Sujeto Obligado. | AD21: Dirección General | AE21: 45992 | AF21: No se genera toda vez que no existe en el tabulador
A22: 2025 | B22: 45962 | C22: 45991 | D22: Otro | E22: 0 | F22: Intendente | G22: Intendente | H22: Dirección General | I22: Alejandra Berenice | J22: Castillo | K22: Villalobos | L22: Mujer | M22: 8500 | N22: pesos | O22: 7676.4 | P22: pesos | Q22: =Tabla_549551!B18 -> Este Organismo no genera percepciones adicionales en dinero. Con fundamento legal en la Ley de Presupuesto de Egresos del Estado de San Luis Potosi para el ejercicio fiscal 2024, están consideradas en la mencionada Ley más sin embargo no son generados por este Sujeto Obligado. | R22: =Tabla_549538!B18 -> Este Organismo no genera percepciones adicionales en especie Con fundamento legal en la Ley de Presupuesto de Egresos del Estado de San Luis Potosi para el ejercicio fiscal 2024, están consideradas en la mencionada Ley más sin embargo no son generados por este Sujeto Obligado. | S22: 8500 | T22: 7676.4 | W22: =Tabla_549539!B18 -> Este Organismo no genera percepciones por comisiones. Con fundamento legal en la Ley de Presupuesto de Egresos del Estado de San Luis Potosi para el ejercicio fiscal 2024, están consideradas en la mencionada Ley más sin embargo no son generados por este Sujeto Obligado. | X22: =Tabla_549530!B18 -> Este Organismo no genera percepciones por dietas Con fundamento legal en la Ley de Presupuesto de Egresos del Estado de San Luis Potosi para el ejercicio fiscal 2024, están consideradas en la mencionada Ley más sin embargo no son generados por este Sujeto Obligado. | Y22: =Tabla_549531!B18 -> Este Organismo no genera percepciones por bonos. Con fundamento legal en la Ley de Presupuesto de Egresos del Estado de San Luis Potosi para el ejercicio fiscal 2024, están consideradas en la mencionada Ley más sin embargo no son generados por este Sujeto Obligado. | AA22: =Tabla_549553!B18 -> Este Organismo no genera apoyos económicos. Con fundamento legal en la Ley de Presupuesto de Egresos del Estado de San Luis Potosi para el ejercicio fiscal 2024, están consideradas en la mencionada Ley más sin embargo no son generados por este Sujeto Obligado. | AB22: =Tabla_549550!B18 -> Este Organismo no genera prestaciones económicas. Con fundamento legal en la Ley de Presupuesto de Egresos del Estado de San Luis Potosi para el ejercicio fiscal 2024, están consideradas en la mencionada Ley más sin embargo no son generados por este Sujeto Obligado. | AC22: =Tabla_549554!B18 -> Este Organismo no genera prestaciones en especie Con fundamento legal en la Ley de Presupuesto de Egresos del Estado de San Luis Potosi para el ejercicio fiscal 2024, están consideradas en la mencionada Ley más sin embargo no son generados por este Sujeto Obligado. | AD22: Dirección General | AE22: 45992 | AF22: No se genera toda vez que no existe en el tabulador

Sheet Hidden_1
A1: Funcionaria (o)
A2: Persona servidora pública
A3: Persona servidora pública eventual
A4: Integrante
A5: Empleada (o)
A6: Representante popular
A7: Miembro del poder judicial
A8: Miembro de órgano autónomo
A9: Personal de confianza
A10: Persona prestadora de servicios profesionales
A11: Otro

Sheet Hidden_2
A1: Hombre
A2: Mujer

Sheet Tabla_549551
B1: 2 | C1: 6 | D1: 6 | E1: 1 | F1: 1
B2: 70050 | C2: 70051 | D2: 70052 | E2: 70053 | F2: 70054
A3: ID | B3: Denominación de las percepciones adicionales en dinero | C3: Monto bruto de las percepciones adicionales en dinero | D3: Monto neto de las percepciones adicionales en dinero | E3: Tipo de moneda de las percepciones adicionales en dinero | F3: Periodicidad de las percepciones adicionales en dinero
A4: 1 | B4: Este Organismo no genera percepciones adicionales en dinero. Con fundamento legal en la Ley de Presupuesto de Egresos del Estado de San Luis Potosi para el ejercicio fiscal 2024, están consideradas en la mencionada Ley más sin embargo no son generados por este Sujeto Obligado. | C4: 0 | D4: 0 | E4: MXN | F4: Este Organismo no genera percepciones adicionales en dinero. Con fundamento legal en la Ley de Presupuesto de Egresos del Estado de San Luis Potosi para el ejercicio fiscal 2024, están consideradas en la mencionada Ley más sin embargo no son generados por este Sujeto Obligado.
A5: 2 | B5: Este Organismo no genera percepciones adicionales en dinero. Con fundamento legal en la Ley de Presupuesto de Egresos del Estado de San Luis Potosi para el ejercicio fiscal 2024, están consideradas en la mencionada Ley más sin embargo no son generados por este Sujeto Obligado. | C5: 0 | D5: 0 | E5: MXN | F5: Este Organismo no genera percepciones adicionales en dinero. Con fundamento legal en la Ley de Presupuesto de Egresos del Estado de San Luis Potosi para el ejercicio fiscal 2024, están consideradas en la mencionada Ley más sin embargo no son generados por este Sujeto Obligado.
A6: 3 | B6: Este Organismo no genera percepciones adicionales en dinero. Con fundamento legal en la Ley de Presupuesto de Egresos del Estado de San Luis Potosi para el ejercicio fiscal 2024, están consideradas en la mencionada Ley más sin embargo no son generados por este Sujeto Obligado. | C6: 0 | D6: 0 | E6: MXN | F6: Este Organismo no genera percepciones adicionales en dinero. Con fundamento legal en la Ley de Presupuesto de Egresos del Estado de San Luis Potosi para el ejercicio fiscal 2024, están consideradas en la mencionada Ley más sin embargo no son generados por este Sujeto Obligado.
A7: 4 | B7: Este Organismo no genera percepciones adicionales en dinero. Con fundamento legal en la Ley de Presupuesto de Egresos del Estado de San Luis Potosi para el ejercicio fiscal 2024, están consideradas en la mencionada Ley más sin embargo no son generados por este Sujeto Obligado. | C7: 0 | D7: 0 | E7: MXN | F7: Este Organismo no genera percepciones adicionales en dinero. Con fundamento legal en la Ley de Presupuesto de Egresos del Estado de San Luis Potosi para el ejercicio fiscal 2024, están consideradas en la mencionada Ley más sin embargo no son generados por este Sujeto Obligado.
A8: 5 | B8: Este Organismo no genera percepciones adicionales en dinero. Con fundamento legal en la Ley de Presupuesto de Egresos del Estado de San Luis Potosi para el ejercicio fiscal 2024, están consideradas en la mencionada Ley más sin embargo no son generados por este Sujeto Obligado. | C8: 0 | D8: 0 | E8: MXN | F8: Este Organismo no genera percepciones adicionales en dinero. Con fundamento legal en la Ley de Presupuesto de Egresos del Estado de San Luis Potosi para el ejercicio fiscal 2024, están consideradas en la mencionada Ley más sin embargo no son generados por este Sujeto Obligado.
A9: 6 | B9: Este Organismo no genera percepciones adicionales en dinero. Con fundamento legal en la Ley de Presupuesto de Egresos del Estado de San Luis Potosi para el ejercicio fiscal 2024, están consideradas en la mencionada Ley más sin embargo no son generados por este Sujeto Obligado. | C9: 0 | D9: 0 | E9: MXN | F9: Este Organismo no genera percepciones adicionales en dinero. Con fundamento legal en la Ley de Presupuesto de Egresos del Estado de San Luis Potosi para el ejercicio fiscal 2024, están consideradas en la mencionada Ley más sin embargo no son generados por este Sujeto Obligado.
A10: 7 | B10: Este Organismo no genera percepciones adicionales en dinero. Con fundamento legal en la Ley de Presupuesto de Egresos del Estado de San Luis Potosi para el ejercicio fiscal 2024, están consideradas en la mencionada Ley más sin embargo no son generados por este Sujeto Obligado. | C10: 0 | D10: 0 | E10: MXN | F10: Este Organismo no genera percepciones adicionales en dinero. Con fundamento legal en la Ley de Presupuesto de Egresos del Estado de San Luis Potosi para el ejercicio fiscal 2024, están consideradas en la mencionada Ley más sin embargo no son generados por este Sujeto Obligado.
A11: 8 | B11: Este Organismo no genera percepciones adicionales en dinero. Con fundamento legal en la Ley de Presupuesto de Egresos del Estado de San Luis Potosi para el ejercicio fiscal 2024, están consideradas en la mencionada Ley más sin embargo no son generados por este Sujeto Obligado. | C11: 0 | D11: 0 | E11: MXN | F11: Este Organismo no genera percepciones adicionales en dinero. Con fundamento legal en la Ley de Presupuesto de Egresos del Estado de San Luis Potosi para el ejercicio fiscal 2024, están consideradas en la mencionada Ley más sin embargo no son generados por este Sujeto Obligado.
A12: 9 | B12: Este Organismo no genera percepciones adicionales en dinero. Con fundamento legal en la Ley de Presupuesto de Egresos del Estado de San Luis Potosi para el ejercicio fiscal 2024, están consideradas en la mencionada Ley más sin embargo no son generados por este Sujeto Obligado. | C12: 0 | D12: 0 | E12: MXN | F12: Este Organismo no genera percepciones adicionales en dinero. Con fundamento legal en la Ley de Presupuesto de Egresos del Estado de San Luis Potosi para el ejercicio fiscal 2024, están consideradas en la mencionada Ley más sin embargo no son generados por este Sujeto Obligado.
A13: 10 | B13: Este Organismo no genera percepciones adicionales en dinero. Con fundamento legal en la Ley de Presupuesto de Egresos del Estado de San Luis Potosi para el ejercicio fiscal 2024, están consideradas en la mencionada Ley más sin embargo no son generados por este Sujeto Obligado. | C13: 0 | D13: 0 | E13: MXN | F13: Este Organismo no genera percepciones adicionales en dinero. Con fundamento legal en la Ley de Presupuesto de Egresos del Estado de San Luis Potosi para el ejercicio fiscal 2024, están consideradas en la mencionada Ley más sin embargo no son generados por este Sujeto Obligado.
A14: 11 | B14: Este Organismo no genera percepciones adicionales en dinero. Con fundamento legal en la Ley de Presupuesto de Egresos del Estado de San Luis Potosi para el ejercicio fiscal 2024, están consideradas en la mencionada Ley más sin embargo no son generados por este Sujeto Obligado. | C14: 0 | D14: 0 | E14: MXN | F14: Este Organismo no genera percepciones adicionales en dinero. Con fundamento legal en la Ley de Presupuesto de Egresos del Estado de San Luis Potosi para el ejercicio fiscal 2024, están consideradas en la mencionada Ley más sin embargo no son generados por este Sujeto Obligado.
A15: 12 | B15: Este Organismo no genera percepciones adicionales en dinero. Con fundamento legal en la Ley de Presupuesto de Egresos del Estado de San Luis Potosi para el ejercicio fiscal 2024, están consideradas en la mencionada Ley más sin embargo no son generados por este Sujeto Obligado. | C15: 0 | D15: 0 | E15: MXN | F15: Este Organismo no genera percepciones adicionales en dinero. Con fundamento legal en la Ley de Presupuesto de Egresos del Estado de San Luis Potosi para el ejercicio fiscal 2024, están consideradas en la mencionada Ley más sin embargo no son generados por este Sujeto Obligado.
... A18: 15 | B18: Este Organismo no genera percepciones adicionales en dinero. Con fundamento legal en la Ley de Presupuesto de Egresos del Estado de San Luis Potosi para el ejercicio fiscal 2024, están consideradas en la mencionada Ley más sin embargo no son generados por este Sujeto Obligado. | C18: 0 | D18: 0 | E18: MXN | F18: Este Organismo no genera percepciones adicionales en dinero. Con fundamento legal en la Ley de Presupuesto de Egresos del Estado de San Luis Potosi para el ejercicio fiscal 2024, están consideradas en la mencionada Ley más sin embargo no son generados por este Sujeto Obligado.

Sheet Tabla_549538
B1: 2 | C1: 1
B2: 70028 | C2: 70029
A3: ID | B3: Descripción de las percepciones adicionales en especie | C3: Periodicidad de las percepciones adicionales en especie
A4: 1 | B4: Este Organismo no genera percepciones adicionales en especie Con fundamento legal en la Ley de Presupuesto de Egresos del Estado de San Luis Potosi para el ejercicio fiscal 2024, están consideradas en la mencionada Ley más sin embargo no son generados por este Sujeto Obligado. | C4: Este Organismo no genera percepciones adicionales en especie Con fundamento legal en la Ley de Presupuesto de Egresos del Estado de San Luis Potosi para el ejercicio fiscal 2024, están consideradas en la mencionada Ley más sin embargo no son generados por este Sujeto Obligado.
A5: 2 | B5: Este Organismo no genera percepciones adicionales en especie Con fundamento legal en la Ley de Presupuesto de Egresos del Estado de San Luis Potosi para el ejercicio fiscal 2024, están consideradas en la mencionada Ley más sin embargo no son generados por este Sujeto Obligado. | C5: Este Organismo no genera percepciones adicionales en especie Con fundamento legal en la Ley de Presupuesto de Egresos del Estado de San Luis Potosi para el ejercicio fiscal 2024, están consideradas en la mencionada Ley más sin embargo no son generados por este Sujeto Obligado.
A6: 3 | B6: Este Organismo no genera percepciones adicionales en especie Con fundamento legal en la Ley de Presupuesto de Egresos del Estado de San Luis Potosi para el ejercicio fiscal 2024, están consideradas en la mencionada Ley más sin embargo no son generados por este Sujeto Obligado. | C6: Este Organismo no genera percepciones adicionales en especie Con fundamento legal en la Ley de Presupuesto de Egresos del Estado de San Luis Potosi para el ejercicio fiscal 2024, están consideradas en la mencionada Ley más sin embargo no son generados por este Sujeto Obligado.
A7: 4 | B7: Este Organismo no genera percepciones adicionales en especie Con fundamento legal en la Ley de Presupuesto de Egresos del Estado de San Luis Potosi para el ejercicio fiscal 2024, están consideradas en la mencionada Ley más sin embargo no son generados por este Sujeto Obligado. | C7: Este Organismo no genera percepciones adicionales en especie Con fundamento legal en la Ley de Presupuesto de Egresos del Estado de San Luis Potosi para el ejercicio fiscal 2024, están consideradas en la mencionada Ley más sin embargo no son generados por este Sujeto Obligado.
A8: 5 | B8: Este Organismo no genera percepciones adicionales en especie Con fundamento legal en la Ley de Presupuesto de Egresos del Estado de San Luis Potosi para el ejercicio fiscal 2024, están consideradas en la mencionada Ley más sin embargo no son generados por este Sujeto Obligado. | C8: Este Organismo no genera percepciones adicionales en especie Con fundamento legal en la Ley de Presupuesto de Egresos del Estado de San Luis Potosi para el ejercicio fiscal 2024, están consideradas en la mencionada Ley más sin embargo no son generados por este Sujeto Obligado.
A9: 6 | B9: Este Organismo no genera percepciones adicionales en especie Con fundamento legal en la Ley de Presupuesto de Egresos del Estado de San Luis Potosi para el ejercicio fiscal 2024, están consideradas en la mencionada Ley más sin embargo no son generados por este Sujeto Obligado. | C9: Este Organismo no genera percepciones adicionales en especie Con fundamento legal en la Ley de Presupuesto de Egresos del Estado de San Luis Potosi para el ejercicio fiscal 2024, están consideradas en la mencionada Ley más sin embargo no son generados por este Sujeto Obligado.
A10: 7 | B10: Este Organismo no genera percepciones adicionales en especie Con fundamento legal en la Ley de Presupuesto de Egresos del Estado de San Luis Potosi para el ejercicio fiscal 2024, están consideradas en la mencionada Ley más sin embargo no son generados por este Sujeto Obligado. | C10: Este Organismo no genera percepciones adicionales en especie Con fundamento legal en la Ley de Presupuesto de Egresos del Estado de San Luis Potosi para el ejercicio fiscal 2024, están consideradas en la mencionada Ley más sin embargo no son generados por este Sujeto Obligado.
A11: 8 | B11: Este Organismo no genera percepciones adicionales en especie Con fundamento legal en la Ley de Presupuesto de Egresos del Estado de San Luis Potosi para el ejercicio fiscal 2024, están consideradas en la mencionada Ley más sin embargo no son generados por este Sujeto Obligado. | C11: Este Organismo no genera percepciones adicionales en especie Con fundamento legal en la Ley de Presupuesto de Egresos del Estado de San Luis Potosi para el ejercicio fiscal 2024, están consideradas en la mencionada Ley más sin embargo no son generados por este Sujeto Obligado.
A12: 9 | B12: Este Organismo no genera percepciones adicionales en especie Con fundamento legal en la Ley de Presupuesto de Egresos del Estado de San Luis Potosi para el ejercicio fiscal 2024, están consideradas en la mencionada Ley más sin embargo no son generados por este Sujeto Obligado. | C12: Este Organismo no genera percepciones adicionales en especie Con fundamento legal en la Ley de Presupuesto de Egresos del Estado de San Luis Potosi para el ejercicio fiscal 2024, están consideradas en la mencionada Ley más sin embargo no son generados por este Sujeto Obligado.
A13: 10 | B13: Este Organismo no genera percepciones adicionales en especie Con fundamento legal en la Ley de Presupuesto de Egresos del Estado de San Luis Potosi para el ejercicio fiscal 2024, están consideradas en la mencionada Ley más sin embargo no son generados por este Sujeto Obligado. | C13: Este Organismo no genera percepciones adicionales en especie Con fundamento legal en la Ley de Presupuesto de Egresos del Estado de San Luis Potosi para el ejercicio fiscal 2024, están consideradas en la mencionada Ley más sin embargo no son generados por este Sujeto Obligado.
A14: 11 | B14: Este Organismo no genera percepciones adicionales en especie Con fundamento legal en la Ley de Presupuesto de Egresos del Estado de San Luis Potosi para el ejercicio fiscal 2024, están consideradas en la mencionada Ley más sin embargo no son generados por este Sujeto Obligado. | C14: Este Organismo no genera percepciones adicionales en especie Con fundamento legal en la Ley de Presupuesto de Egresos del Estado de San Luis Potosi para el ejercicio fiscal 2024, están consideradas en la mencionada Ley más sin embargo no son generados por este Sujeto Obligado.
A15: 12 | B15: Este Organismo no genera percepciones adicionales en especie Con fundamento legal en la Ley de Presupuesto de Egresos del Estado de San Luis Potosi para el ejercicio fiscal 2024, están consideradas en la mencionada Ley más sin embargo no son generados por este Sujeto Obligado. | C15: Este Organismo no genera percepciones adicionales en especie Con fundamento legal en la Ley de Presupuesto de Egresos del Estado de San Luis Potosi para el ejercicio fiscal 2024, están consideradas en la mencionada Ley más sin embargo no son generados por este Sujeto Obligado.
... A18: 15 | B18: Este Organismo no genera percepciones adicionales en especie Con fundamento legal en la Ley de Presupuesto de Egresos del Estado de San Luis Potosi para el ejercicio fiscal 2024, están consideradas en la mencionada Ley más sin embargo no son generados por este Sujeto Obligado. | C18: Este Organismo no genera percepciones adicionales en especie Con fundamento legal en la Ley de Presupuesto de Egresos del Estado de San Luis Potosi para el ejercicio fiscal 2024, están consideradas en la mencionada Ley más sin embargo no son generados por este Sujeto Obligado.

Sheet Tabla_549552
B1: 2 | C1: 6 | D1: 6 | E1: 1 | F1: 1
B2: 70057 | C2: 70058 | D2: 70059 | E2: 70055 | F2: 70056
A3: ID | B3: Denominación de los ingresos | C3: Monto bruto de los ingresos | D3: Monto neto de los ingresos | E3: Tipo de moneda de los ingresos | F3: Periodicidad de los ingresos
A4: 1 | B4: Sueldos y salarios | C4: 18260.19 | D4: 14339 | E4: pesos | F4: mensual
A5: 2 | B5: Sueldos y salarios | C5: 23610.19 | D5: 16095 | E5: pesos | F5: mensual
A6: 3 | B6: Sueldos y salarios | C6: 21992.29 | D6: 18335 | E6: pesos | F6: mensual
A7: 4 | B7: Sueldos y salarios | C7: 14184.9 | D7: 12358 | E7: pesos | F7: mensual
A8: 5 | B8: Sueldos y salarios | C8: 10079.86 | D8: 8352 | E8: pesos | F8: mensual
A9: 6 | B9: Sueldos y salarios | C9: 10480.86 | D9: 8886 | E9: pesos | F9: mensual
A10: 7 | B10: Sueldos y salarios | C10: 18260.19 | D10: 15338 | E10: pesos | F10: mensual
A11: 8 | B11: Sueldos y salarios | C11: 18387.52 | D11: 9185 | E11: pesos | F11: mensual
A12: 9 | B12: Sueldos y salarios | C12: 8251.2 | D12: 4699.4 | E12: pesos | F12: mensual
A13: 10 | B13: Sueldos y salarios | C13: 5707.75 | D13: 5237.2 | E13: pesos | F13: mensual
A14: 11 | B14: Sueldos y salarios | C14: 35100 | D14: 28173 | E14: pesos | F14: mensual
A15: 12 | B15: Sueldos y salarios | C15: 12390 | D15: 10916.6 | E15: pesos | F15: mensual
... A21: 18 | B21: Sueldos y salarios | C21: 6301 | D21: 5560 | E21: pesos | F21: mensual

Sheet Tabla_549522
B1: 1 | C1: 6 | D1: 6 | E1: 1 | F1: 1
B2: 70008 | C2: 70009 | D2: 70010 | E2: 70011 | F2: 70012
A3: ID | B3: Denominación de los sistemas de compensación | C3: Monto bruto de los sistemas de compensación | D3: Monto neto de los sistemas de compensación | E3: Tipo de moneda de los sistemas de compensación | F3: Periodicidad de los sistemas de compensación
A4: 1 | B4: Sueldos y salarios | C4: 18260.19 | D4: 14339 | E4: pesos | F4: mensual
A5: 2 | B5: Sueldos y salarios | C5: 23610.19 | D5: 16095 | E5: pesos | F5: mensual
A6: 3 | B6: Sueldos y salarios | C6: 21992.29 | D6: 18335 | E6: pesos | F6: mensual
A7: 4 | B7: Sueldos y salarios | C7: 14184.9 | D7: 12358 | E7: pesos | F7: mensual
A8: 5 | B8: Sueldos y salarios | C8: 10079.86 | D8: 8352 | E8: pesos | F8: mensual
A9: 6 | B9: Sueldos y salarios | C9: 10480.86 | D9: 8886 | E9: pesos | F9: mensual
A10: 7 | B10: Sueldos y salarios | C10: 18260.19 | D10: 15338 | E10: pesos | F10: mensual
A11: 8 | B11: Sueldos y salarios | C11: 18387.52 | D11: 9185 | E11: pesos | F11: mensual
A12: 9 | B12: Sueldos y salarios | C12: 8251.2 | D12: 4699.4 | E12: pesos | F12: mensual
A13: 10 | B13: Sueldos y salarios | C13: 5707.75 | D13: 5237.2 | E13: pesos | F13: mensual
A14: 11 | B14: Sueldos y salarios | C14: 35100 | D14: 28173 | E14: pesos | F14: mensual
A15: 12 | B15: Sueldos y salarios | C15: 12390 | D15: 10916.6 | E15: pesos | F15: mensual
... A21: 18 | B21: Sueldos y salarios | C21: 6301 | D21: 5560 | E21: pesos | F21: mensual

Sheet Tabla_549542
B1: 1 | C1: 6 | D1: 6 | E1: 1 | F1: 1
B2: 70035 | C2: 70036 | D2: 70037 | E2: 70038 | F2: 70039
A3: ID | B3: Denominación de las gratificaciones | C3: Monto bruto de las gratificaciones | D3: Monto neto de las gratificaciones | E3: Tipo de moneda de las gratificaciones | F3: Periodicidad de las gratificaciones
A4: 1 | B4: GRATIFICACION ANUAL | C4: 22825.48 | D4: 9536 | E4: MXN | F4: Anual
A5: 2 | B5: GRATIFICACION ANUAL | C5: 29513.07 | D5: 23905 | E5: MXN | F5: Anual
A6: 3 | B6: GRATIFICACION ANUAL | C6: 27490.81 | D6: 22315 | E6: MXN | F6: Anual
A7: 4 | B7: GRATIFICACION ANUAL | C7: 18133.03 | D7: 15468 | E7: MXN | F7: Anual
A8: 5 | B8: GRATIFICACION ANUAL | C8: 14460.93 | D8: 8087 | E8: MXN | F8: Anual
A9: 6 | B9: GRATIFICACION ANUAL | C9: 13864.41 | D9: 12192 | E9: MXN | F9: Anual
A10: 7 | B10: GRATIFICACION ANUAL | C10: 22825.48 | D10: 18645 | E10: MXN | F10: Anual
A11: 8 | B11: GRATIFICACION ANUAL | C11: 22984.4 | D11: 18771 | E11: MXN | F11: Anual
A12: 9 | B12: GRATIFICACION ANUAL | C12: 0 | D12: 0 | E12: MXN | F12: Anual
A13: 10 | B13: GRATIFICACION ANUAL | C13: 0 | D13: 0 | E13: MXN | F13: Anual
A14: 11 | B14: GRATIFICACION ANUAL | C14: 81900 | D14: 63403 | E14: MXN | F14: Anual
A15: 12 | B15: GRATIFICACION ANUAL | C15: 0 | D15: 0 | E15: MXN | F15: Anual
... A21: 18 | B21: GRATIFICACION ANUAL | C21: 0 | D21: 0 | E21: MXN | F21: Anual

Sheet Tabla_549529
B1: 1 | C1: 6 | D1: 6 | E1: 1 | F1: 1
B2: 70013 | C2: 70014 | D2: 70015 | E2: 70016 | F2: 70017
A3: ID | B3: Denominación de las primas | C3: Monto bruto de las primas | D3: Monto neto de las primas | E3: Tipo de moneda de las primas | F3: Periodicidad de las primas
A4: 1 | B4: En este periodo no se generó | C4: 0 | D4: =C4 -> 0 | E4: pesos mexicanos | F4: Anual
A5: 2 | B5: En este periodo no se generó | C5: 0 | D5: =C5 -> 0 | E5: pesos mexicanos | F5: Anual
A6: 3 | B6: En este periodo no se generó | C6: 0 | D6: =C6 -> 0 | E6: pesos mexicanos | F6: En este periodo no se generó
A7: 4 | B7: En este periodo no se generó | C7: 0 | D7: =C7 -> 0 | E7: pesos mexicanos | F7: Anual
A8: 5 | B8: Prima Dominical | C8: 458.18 | D8: =C8 -> 458.18 | E8: pesos mexicanos | F8: Quincenal
A9: 6 | B9: Prima Dominical | C9: 171.81 | D9: =C9 -> 171.81 | E9: pesos mexicanos | F9: Quincenal
A10: 7 | B10: En este periodo no se generó | C10: 0 | D10: =C10 -> 0 | E10: pesos mexicanos | F10: En este periodo no se generó
A11: 8 | B11: En este periodo no se generó | C11: 0 | D11: =C11 -> 0 | E11: pesos mexicanos | F11: En este periodo no se generó
A12: 9 | B12: En este periodo no se generó | C12: 0 | D12: =C12 -> 0 | E12: pesos mexicanos | F12: En este periodo no se generó
A13: 10 | B13: Prima Dominical | C13: 335.75 | D13: =C13 -> 335.75 | E13: pesos mexicanos | F13: Quincenal
A14: 11 | B14: En este periodo no se generó | C14: 0 | D14: =C14 -> 0 | E14: pesos mexicanos | F14: En este periodo no se generó
A15: 12 | B15: En este periodo no se generó | C15: 0 | D15: =C15 -> 0 | E15: pesos mexicanos | F15: En este periodo no se generó
... A20: 17 | B20: En este periodo no se generó | C20: 0 | D20: =C20 -> 0 | E20: pesos mexicanos | F20: En este periodo no se generó

Sheet Tabla_549539
B1: 1 | C1: 6 | D1: 6 | E1: 1 | F1: 1
B2: 70030 | C2: 70031 | D2: 70032 | E2: 70033 | F2: 70034
A3: ID | B3: Denominación de las comisiones | C3: Monto bruto de las comisiones | D3: Monto neto de las comisiones | E3: Tipo de moneda de las comisiones | F3: Periodicidad de las comisiones
A4: 1 | B4: Este Organismo no genera percepciones por comisiones. Con fundamento legal en la Ley de Presupuesto de Egresos del Estado de San Luis Potosi para el ejercicio fiscal 2024, están consideradas en la mencionada Ley más sin embargo no son generados por este Sujeto Obligado. | C4: 0 | D4: 0 | E4: MXN | F4: Este Organismo no genera percepciones por comisiones. Con fundamento legal en la Ley de Presupuesto de Egresos del Estado de San Luis Potosi para el ejercicio fiscal 2024, están consideradas en la mencionada Ley más sin embargo no son generados por este Sujeto Obligado.
A5: 2 | B5: Este Organismo no genera percepciones por comisiones. Con fundamento legal en la Ley de Presupuesto de Egresos del Estado de San Luis Potosi para el ejercicio fiscal 2024, están consideradas en la mencionada Ley más sin embargo no son generados por este Sujeto Obligado. | C5: 0 | D5: 0 | E5: MXN | F5: Este Organismo no genera percepciones por comisiones. Con fundamento legal en la Ley de Presupuesto de Egresos del Estado de San Luis Potosi para el ejercicio fiscal 2024, están consideradas en la mencionada Ley más sin embargo no son generados por este Sujeto Obligado.
A6: 3 | B6: Este Organismo no genera percepciones por comisiones. Con fundamento legal en la Ley de Presupuesto de Egresos del Estado de San Luis Potosi para el ejercicio fiscal 2024, están consideradas en la mencionada Ley más sin embargo no son generados por este Sujeto Obligado. | C6: 0 | D6: 0 | E6: MXN | F6: Este Organismo no genera percepciones por comisiones. Con fundamento legal en la Ley de Presupuesto de Egresos del Estado de San Luis Potosi para el ejercicio fiscal 2024, están consideradas en la mencionada Ley más sin embargo no son generados por este Sujeto Obligado.
A7: 4 | B7: Este Organismo no genera percepciones por comisiones. Con fundamento legal en la Ley de Presupuesto de Egresos del Estado de San Luis Potosi para el ejercicio fiscal 2024, están consideradas en la mencionada Ley más sin embargo no son generados por este Sujeto Obligado. | C7: 0 | D7: 0 | E7: MXN | F7: Este Organismo no genera percepciones por comisiones. Con fundamento legal en la Ley de Presupuesto de Egresos del Estado de San Luis Potosi para el ejercicio fiscal 2024, están consideradas en la mencionada Ley más sin embargo no son generados por este Sujeto Obligado.
A8: 5 | B8: Este Organismo no genera percepciones por comisiones. Con fundamento legal en la Ley de Presupuesto de Egresos del Estado de San Luis Potosi para el ejercicio fiscal 2024, están consideradas en la mencionada Ley más sin embargo no son generados por este Sujeto Obligado. | C8: 0 | D8: 0 | E8: MXN | F8: Este Organismo no genera percepciones por comisiones. Con fundamento legal en la Ley de Presupuesto de Egresos del Estado de San Luis Potosi para el ejercicio fiscal 2024, están consideradas en la mencionada Ley más sin embargo no son generados por este Sujeto Obligado.
A9: 6 | B9: Este Organismo no genera percepciones por comisiones. Con fundamento legal en la Ley de Presupuesto de Egresos del Estado de San Luis Potosi para el ejercicio fiscal 2024, están consideradas en la mencionada Ley más sin embargo no son generados por este Sujeto Obligado. | C9: 0 | D9: 0 | E9: MXN | F9: Este Organismo no genera percepciones por comisiones. Con fundamento legal en la Ley de Presupuesto de Egresos del Estado de San Luis Potosi para el ejercicio fiscal 2024, están consideradas en la mencionada Ley más sin embargo no son generados por este Sujeto Obligado.
A10: 7 | B10: Este Organismo no genera percepciones por comisiones. Con fundamento legal en la Ley de Presupuesto de Egresos del Estado de San Luis Potosi para el ejercicio fiscal 2024, están consideradas en la mencionada Ley más sin embargo no son generados por este Sujeto Obligado. | C10: 0 | D10: 0 | E10: MXN | F10: Este Organismo no genera percepciones por comisiones. Con fundamento legal en la Ley de Presupuesto de Egresos del Estado de San Luis Potosi para el ejercicio fiscal 2024, están consideradas en la mencionada Ley más sin embargo no son generados por este Sujeto Obligado.
A11: 8 | B11: Este Organismo no genera percepciones por comisiones. Con fundamento legal en la Ley de Presupuesto de Egresos del Estado de San Luis Potosi para el ejercicio fiscal 2024, están consideradas en la mencionada Ley más sin embargo no son generados por este Sujeto Obligado. | C11: 0 | D11: 0 | E11: MXN | F11: Este Organismo no genera percepciones por comisiones. Con fundamento legal en la Ley de Presupuesto de Egresos del Estado de San Luis Potosi para el ejercicio fiscal 2024, están consideradas en la mencionada Ley más sin embargo no son generados por este Sujeto Obligado.
A12: 9 | B12: Este Organismo no genera percepciones por comisiones. Con fundamento legal en la Ley de Presupuesto de Egresos del Estado de San Luis Potosi para el ejercicio fiscal 2024, están consideradas en la mencionada Ley más sin embargo no son generados por este Sujeto Obligado. | C12: 0 | D12: 0 | E12: MXN | F12: Este Organismo no genera percepciones por comisiones. Con fundamento legal en la Ley de Presupuesto de Egresos del Estado de San Luis Potosi para el ejercicio fiscal 2024, están consideradas en la mencionada Ley más sin embargo no son generados por este Sujeto Obligado.
A13: 10 | B13: Este Organismo no genera percepciones por comisiones. Con fundamento legal en la Ley de Presupuesto de Egresos del Estado de San Luis Potosi para el ejercicio fiscal 2024, están consideradas en la mencionada Ley más sin embargo no son generados por este Sujeto Obligado. | C13: 0 | D13: 0 | E13: MXN | F13: Este Organismo no genera percepciones por comisiones. Con fundamento legal en la Ley de Presupuesto de Egresos del Estado de San Luis Potosi para el ejercicio fiscal 2024, están consideradas en la mencionada Ley más sin embargo no son generados por este Sujeto Obligado.
A14: 11 | B14: Este Organismo no genera percepciones por comisiones. Con fundamento legal en la Ley de Presupuesto de Egresos del Estado de San Luis Potosi para el ejercicio fiscal 2024, están consideradas en la mencionada Ley más sin embargo no son generados por este Sujeto Obligado. | C14: 0 | D14: 0 | E14: MXN | F14: Este Organismo no genera percepciones por comisiones. Con fundamento legal en la Ley de Presupuesto de Egresos del Estado de San Luis Potosi para el ejercicio fiscal 2024, están consideradas en la mencionada Ley más sin embargo no son generados por este Sujeto Obligado.
A15: 12 | B15: Este Organismo no genera percepciones por comisiones. Con fundamento legal en la Ley de Presupuesto de Egresos del Estado de San Luis Potosi para el ejercicio fiscal 2024, están consideradas en la mencionada Ley más sin embargo no son generados por este Sujeto Obligado. | C15: 0 | D15: 0 | E15: MXN | F15: Este Organismo no genera percepciones por comisiones. Con fundamento legal en la Ley de Presupuesto de Egresos del Estado de San Luis Potosi para el ejercicio fiscal 2024, están consideradas en la mencionada Ley más sin embargo no son generados por este Sujeto Obligado.
... A18: 15 | B18: Este Organismo no genera percepciones por comisiones. Con fundamento legal en la Ley de Presupuesto de Egresos del Estado de San Luis Potosi para el ejercicio fiscal 2024, están consideradas en la mencionada Ley más sin embargo no son generados por este Sujeto Obligado. | C18: 0 | D18: 0 | E18: MXN | F18: Este Organismo no genera percepciones por comisiones. Con fundamento legal en la Ley de Presupuesto de Egresos del Estado de San Luis Potosi para el ejercicio fiscal 2024, están consideradas en la mencionada Ley más sin embargo no son generados por este Sujeto Obligado.

Sheet Tabla_549530
B1: 1 | C1: 6 | D1: 6 | E1: 1 | F1: 1
B2: 70018 | C2: 70019 | D2: 70020 | E2: 70021 | F2: 70022
A3: ID | B3: Denominación de las dietas | C3: Monto bruto de las dietas | D3: Monto neto de las dietas | E3: Tipo de moneda de las dietas | F3: Periodicidad de las dietas
A4: 1 | B4: Este Organismo no genera percepciones por dietas Con fundamento legal en la Ley de Presupuesto de Egresos del Estado de San Luis Potosi para el ejercicio fiscal 2024, están consideradas en la mencionada Ley más sin embargo no son generados por este Sujeto Obligado. | C4: 0 | D4: 0 | E4: MXN | F4: Este Organismo no genera percepciones por dietas Con fundamento legal en la Ley de Presupuesto de Egresos del Estado de San Luis Potosi para el ejercicio fiscal 2024, están consideradas en la mencionada Ley más sin embargo no son generados por este Sujeto Obligado.
A5: 2 | B5: Este Organismo no genera percepciones por dietas Con fundamento legal en la Ley de Presupuesto de Egresos del Estado de San Luis Potosi para el ejercicio fiscal 2024, están consideradas en la mencionada Ley más sin embargo no son generados por este Sujeto Obligado. | C5: 0 | D5: 0 | E5: MXN | F5: Este Organismo no genera percepciones por dietas Con fundamento legal en la Ley de Presupuesto de Egresos del Estado de San Luis Potosi para el ejercicio fiscal 2024, están consideradas en la mencionada Ley más sin embargo no son generados por este Sujeto Obligado.
A6: 3 | B6: Este Organismo no genera percepciones por dietas Con fundamento legal en la Ley de Presupuesto de Egresos del Estado de San Luis Potosi para el ejercicio fiscal 2024, están consideradas en la mencionada Ley más sin embargo no son generados por este Sujeto Obligado. | C6: 0 | D6: 0 | E6: MXN | F6: Este Organismo no genera percepciones por dietas Con fundamento legal en la Ley de Presupuesto de Egresos del Estado de San Luis Potosi para el ejercicio fiscal 2024, están consideradas en la mencionada Ley más sin embargo no son generados por este Sujeto Obligado.
A7: 4 | B7: Este Organismo no genera percepciones por dietas Con fundamento legal en la Ley de Presupuesto de Egresos del Estado de San Luis Potosi para el ejercicio fiscal 2024, están consideradas en la mencionada Ley más sin embargo no son generados por este Sujeto Obligado. | C7: 0 | D7: 0 | E7: MXN | F7: Este Organismo no genera percepciones por dietas Con fundamento legal en la Ley de Presupuesto de Egresos del Estado de San Luis Potosi para el ejercicio fiscal 2024, están consideradas en la mencionada Ley más sin embargo no son generados por este Sujeto Obligado.
A8: 5 | B8: Este Organismo no genera percepciones por dietas Con fundamento legal en la Ley de Presupuesto de Egresos del Estado de San Luis Potosi para el ejercicio fiscal 2024, están consideradas en la mencionada Ley más sin embargo no son generados por este Sujeto Obligado. | C8: 0 | D8: 0 | E8: MXN | F8: Este Organismo no genera percepciones por dietas Con fundamento legal en la Ley de Presupuesto de Egresos del Estado de San Luis Potosi para el ejercicio fiscal 2024, están consideradas en la mencionada Ley más sin embargo no son generados por este Sujeto Obligado.
A9: 6 | B9: Este Organismo no genera percepciones por dietas Con fundamento legal en la Ley de Presupuesto de Egresos del Estado de San Luis Potosi para el ejercicio fiscal 2024, están consideradas en la mencionada Ley más sin embargo no son generados por este Sujeto Obligado. | C9: 0 | D9: 0 | E9: MXN | F9: Este Organismo no genera percepciones por dietas Con fundamento legal en la Ley de Presupuesto de Egresos del Estado de San Luis Potosi para el ejercicio fiscal 2024, están consideradas en la mencionada Ley más sin embargo no son generados por este Sujeto Obligado.
A10: 7 | B10: Este Organismo no genera percepciones por dietas Con fundamento legal en la Ley de Presupuesto de Egresos del Estado de San Luis Potosi para el ejercicio fiscal 2024, están consideradas en la mencionada Ley más sin embargo no son generados por este Sujeto Obligado. | C10: 0 | D10: 0 | E10: MXN | F10: Este Organismo no genera percepciones por dietas Con fundamento legal en la Ley de Presupuesto de Egresos del Estado de San Luis Potosi para el ejercicio fiscal 2024, están consideradas en la mencionada Ley más sin embargo no son generados por este Sujeto Obligado.
A11: 8 | B11: Este Organismo no genera percepciones por dietas Con fundamento legal en la Ley de Presupuesto de Egresos del Estado de San Luis Potosi para el ejercicio fiscal 2024, están consideradas en la mencionada Ley más sin embargo no son generados por este Sujeto Obligado. | C11: 0 | D11: 0 | E11: MXN | F11: Este Organismo no genera percepciones por dietas Con fundamento legal en la Ley de Presupuesto de Egresos del Estado de San Luis Potosi para el ejercicio fiscal 2024, están consideradas en la mencionada Ley más sin embargo no son generados por este Sujeto Obligado.
A12: 9 | B12: Este Organismo no genera percepciones por dietas Con fundamento legal en la Ley de Presupuesto de Egresos del Estado de San Luis Potosi para el ejercicio fiscal 2024, están consideradas en la mencionada Ley más sin embargo no son generados por este Sujeto Obligado. | C12: 0 | D12: 0 | E12: MXN | F12: Este Organismo no genera percepciones por dietas Con fundamento legal en la Ley de Presupuesto de Egresos del Estado de San Luis Potosi para el ejercicio fiscal 2024, están consideradas en la mencionada Ley más sin embargo no son generados por este Sujeto Obligado.
A13: 10 | B13: Este Organismo no genera percepciones por dietas Con fundamento legal en la Ley de Presupuesto de Egresos del Estado de San Luis Potosi para el ejercicio fiscal 2024, están consideradas en la mencionada Ley más sin embargo no son generados por este Sujeto Obligado. | C13: 0 | D13: 0 | E13: MXN | F13: Este Organismo no genera percepciones por dietas Con fundamento legal en la Ley de Presupuesto de Egresos del Estado de San Luis Potosi para el ejercicio fiscal 2024, están consideradas en la mencionada Ley más sin embargo no son generados por este Sujeto Obligado.
A14: 11 | B14: Este Organismo no genera percepciones por dietas Con fundamento legal en la Ley de Presupuesto de Egresos del Estado de San Luis Potosi para el ejercicio fiscal 2024, están consideradas en la mencionada Ley más sin embargo no son generados por este Sujeto Obligado. | C14: 0 | D14: 0 | E14: MXN | F14: Este Organismo no genera percepciones por dietas Con fundamento legal en la Ley de Presupuesto de Egresos del Estado de San Luis Potosi para el ejercicio fiscal 2024, están consideradas en la mencionada Ley más sin embargo no son generados por este Sujeto Obligado.
A15: 12 | B15: Este Organismo no genera percepciones por dietas Con fundamento legal en la Ley de Presupuesto de Egresos del Estado de San Luis Potosi para el ejercicio fiscal 2024, están consideradas en la mencionada Ley más sin embargo no son generados por este Sujeto Obligado. | C15: 0 | D15: 0 | E15: MXN | F15: Este Organismo no genera percepciones por dietas Con fundamento legal en la Ley de Presupuesto de Egresos del Estado de San Luis Potosi para el ejercicio fiscal 2024, están consideradas en la mencionada Ley más sin embargo no son generados por este Sujeto Obligado.
... A18: 15 | B18: Este Organismo no genera percepciones por dietas Con fundamento legal en la Ley de Presupuesto de Egresos del Estado de San Luis Potosi para el ejercicio fiscal 2024, están consideradas en la mencionada Ley más sin embargo no son generados por este Sujeto Obligado. | C18: 0 | D18: 0 | E18: MXN | F18: Este Organismo no genera percepciones por dietas Con fundamento legal en la Ley de Presupuesto de Egresos del Estado de San Luis Potosi para el ejercicio fiscal 2024, están consideradas en la mencionada Ley más sin embargo no son generados por este Sujeto Obligado.

Sheet Tabla_549531
B1: 1 | C1: 6 | D1: 6 | E1: 1 | F1: 1
B2: 70023 | C2: 70024 | D2: 70025 | E2: 70026 | F2: 70027
A3: ID | B3: Denominación de los bonos | C3: Monto bruto de los bonos | D3: Monto neto de los bonos | E3: Tipo de moneda de los bonos | F3: Periodicidad de los bonos
A4: 1 | B4: Este Organismo no genera percepciones por bonos. Con fundamento legal en la Ley de Presupuesto de Egresos del Estado de San Luis Potosi para el ejercicio fiscal 2024, están consideradas en la mencionada Ley más sin embargo no son generados por este Sujeto Obligado. | C4: 0 | D4: 0 | E4: MXN | F4: Este Organismo no genera percepciones por bonos. Con fundamento legal en la Ley de Presupuesto de Egresos del Estado de San Luis Potosi para el ejercicio fiscal 2024, están consideradas en la mencionada Ley más sin embargo no son generados por este Sujeto Obligado.
A5: 2 | B5: Este Organismo no genera percepciones por bonos. Con fundamento legal en la Ley de Presupuesto de Egresos del Estado de San Luis Potosi para el ejercicio fiscal 2024, están consideradas en la mencionada Ley más sin embargo no son generados por este Sujeto Obligado. | C5: 0 | D5: 0 | E5: MXN | F5: Este Organismo no genera percepciones por bonos. Con fundamento legal en la Ley de Presupuesto de Egresos del Estado de San Luis Potosi para el ejercicio fiscal 2024, están consideradas en la mencionada Ley más sin embargo no son generados por este Sujeto Obligado.
A6: 3 | B6: Este Organismo no genera percepciones por bonos. Con fundamento legal en la Ley de Presupuesto de Egresos del Estado de San Luis Potosi para el ejercicio fiscal 2024, están consideradas en la mencionada Ley más sin embargo no son generados por este Sujeto Obligado. | C6: 0 | D6: 0 | E6: MXN | F6: Este Organismo no genera percepciones por bonos. Con fundamento legal en la Ley de Presupuesto de Egresos del Estado de San Luis Potosi para el ejercicio fiscal 2024, están consideradas en la mencionada Ley más sin embargo no son generados por este Sujeto Obligado.
A7: 4 | B7: Este Organismo no genera percepciones por bonos. Con fundamento legal en la Ley de Presupuesto de Egresos del Estado de San Luis Potosi para el ejercicio fiscal 2024, están consideradas en la mencionada Ley más sin embargo no son generados por este Sujeto Obligado. | C7: 0 | D7: 0 | E7: MXN | F7: Este Organismo no genera percepciones por bonos. Con fundamento legal en la Ley de Presupuesto de Egresos del Estado de San Luis Potosi para el ejercicio fiscal 2024, están consideradas en la mencionada Ley más sin embargo no son generados por este Sujeto Obligado.
A8: 5 | B8: Este Organismo no genera percepciones por bonos. Con fundamento legal en la Ley de Presupuesto de Egresos del Estado de San Luis Potosi para el ejercicio fiscal 2024, están consideradas en la mencionada Ley más sin embargo no son generados por este Sujeto Obligado. | C8: 0 | D8: 0 | E8: MXN | F8: Este Organismo no genera percepciones por bonos. Con fundamento legal en la Ley de Presupuesto de Egresos del Estado de San Luis Potosi para el ejercicio fiscal 2024, están consideradas en la mencionada Ley más sin embargo no son generados por este Sujeto Obligado.
A9: 6 | B9: Este Organismo no genera percepciones por bonos. Con fundamento legal en la Ley de Presupuesto de Egresos del Estado de San Luis Potosi para el ejercicio fiscal 2024, están consideradas en la mencionada Ley más sin embargo no son generados por este Sujeto Obligado. | C9: 0 | D9: 0 | E9: MXN | F9: Este Organismo no genera percepciones por bonos. Con fundamento legal en la Ley de Presupuesto de Egresos del Estado de San Luis Potosi para el ejercicio fiscal 2024, están consideradas en la mencionada Ley más sin embargo no son generados por este Sujeto Obligado.
A10: 7 | B10: Este Organismo no genera percepciones por bonos. Con fundamento legal en la Ley de Presupuesto de Egresos del Estado de San Luis Potosi para el ejercicio fiscal 2024, están consideradas en la mencionada Ley más sin embargo no son generados por este Sujeto Obligado. | C10: 0 | D10: 0 | E10: MXN | F10: Este Organismo no genera percepciones por bonos. Con fundamento legal en la Ley de Presupuesto de Egresos del Estado de San Luis Potosi para el ejercicio fiscal 2024, están consideradas en la mencionada Ley más sin embargo no son generados por este Sujeto Obligado.
A11: 8 | B11: Este Organismo no genera percepciones por bonos. Con fundamento legal en la Ley de Presupuesto de Egresos del Estado de San Luis Potosi para el ejercicio fiscal 2024, están consideradas en la mencionada Ley más sin embargo no son generados por este Sujeto Obligado. | C11: 0 | D11: 0 | E11: MXN | F11: Este Organismo no genera percepciones por bonos. Con fundamento legal en la Ley de Presupuesto de Egresos del Estado de San Luis Potosi para el ejercicio fiscal 2024, están consideradas en la mencionada Ley más sin embargo no son generados por este Sujeto Obligado.
A12: 9 | B12: Este Organismo no genera percepciones por bonos. Con fundamento legal en la Ley de Presupuesto de Egresos del Estado de San Luis Potosi para el ejercicio fiscal 2024, están consideradas en la mencionada Ley más sin embargo no son generados por este Sujeto Obligado. | C12: 0 | D12: 0 | E12: MXN | F12: Este Organismo no genera percepciones por bonos. Con fundamento legal en la Ley de Presupuesto de Egresos del Estado de San Luis Potosi para el ejercicio fiscal 2024, están consideradas en la mencionada Ley más sin embargo no son generados por este Sujeto Obligado.
A13: 10 | B13: Este Organismo no genera percepciones por bonos. Con fundamento legal en la Ley de Presupuesto de Egresos del Estado de San Luis Potosi para el ejercicio fiscal 2024, están consideradas en la mencionada Ley más sin embargo no son generados por este Sujeto Obligado. | C13: 0 | D13: 0 | E13: MXN | F13: Este Organismo no genera percepciones por bonos. Con fundamento legal en la Ley de Presupuesto de Egresos del Estado de San Luis Potosi para el ejercicio fiscal 2024, están consideradas en la mencionada Ley más sin embargo no son generados por este Sujeto Obligado.
A14: 11 | B14: Este Organismo no genera percepciones por bonos. Con fundamento legal en la Ley de Presupuesto de Egresos del Estado de San Luis Potosi para el ejercicio fiscal 2024, están consideradas en la mencionada Ley más sin embargo no son generados por este Sujeto Obligado. | C14: 0 | D14: 0 | E14: MXN | F14: Este Organismo no genera percepciones por bonos. Con fundamento legal en la Ley de Presupuesto de Egresos del Estado de San Luis Potosi para el ejercicio fiscal 2024, están consideradas en la mencionada Ley más sin embargo no son generados por este Sujeto Obligado.
A15: 12 | B15: Este Organismo no genera percepciones por bonos. Con fundamento legal en la Ley de Presupuesto de Egresos del Estado de San Luis Potosi para el ejercicio fiscal 2024, están consideradas en la mencionada Ley más sin embargo no son generados por este Sujeto Obligado. | C15: 0 | D15: 0 | E15: MXN | F15: Este Organismo no genera percepciones por bonos. Con fundamento legal en la Ley de Presupuesto de Egresos del Estado de San Luis Potosi para el ejercicio fiscal 2024, están consideradas en la mencionada Ley más sin embargo no son generados por este Sujeto Obligado.
... A18: 15 | B18: Este Organismo no genera percepciones por bonos. Con fundamento legal en la Ley de Presupuesto de Egresos del Estado de San Luis Potosi para el ejercicio fiscal 2024, están consideradas en la mencionada Ley más sin embargo no son generados por este Sujeto Obligado. | C18: 0 | D18: 0 | E18: MXN | F18: Este Organismo no genera percepciones por bonos. Con fundamento legal en la Ley de Presupuesto de Egresos del Estado de San Luis Potosi para el ejercicio fiscal 2024, están consideradas en la mencionada Ley más sin embargo no son generados por este Sujeto Obligado.

Sheet Tabla_549549
B1: 1 | C1: 6 | D1: 6 | E1: 1 | F1: 1
B2: 70040 | C2: 70041 | D2: 70042 | E2: 70043 | F2: 70044
A3: ID | B3: Denominación de los estímulos | C3: Monto bruto de los estímulos | D3: Monto neto de los estímulos | E3: Tipo de moneda de los estímulos | F3: Periodicidad de los estímulos
A4: 1 | B4: Estimulo por puntualidad | C4: 1140.99 | D4: =C4 -> 1140.99 | E4: MXN | F4: Mensual | J4: Dácil
A5: 2 | B5: Estimulo por puntualidad | C5: 1475.29 | D5: =C5 -> 1475.29 | E5: MXN | F5: Mensual | J5: María Gabriela
A6: 3 | B6: Estimulo por puntualidad | C6: 1374.19 | D6: =C6 -> 1374.19 | E6: MXN | F6: Mensual | J6: Gisela
A7: 4 | B7: Durante este periodo no se entregaron estímulos | C7: 0 | D7: =C7 -> 0 | E7: MXN | F7: Durante este periodo no se entregaron estímulos | J7: Elizabeth
A8: 5 | B8: Durante este periodo no se entregaron estímulos | C8: 0 | D8: =C8 -> 0 | E8: MXN | F8: Durante este periodo no se entregaron estímulos | J8: Luz Elena
A9: 6 | B9: Durante este periodo no se entregaron estímulos | C9: 0 | D9: =C9 -> 0 | E9: MXN | F9: Durante este periodo no se entregaron estímulos | J9: Eva Luz
A10: 7 | B10: Estimulo por puntualidad | C10: 1140.99 | D10: =C10 -> 1140.99 | E10: MXN | F10: Mensual | J10: Juana María
A11: 8 | B11: Estimulo por puntualidad | C11: 1149.22 | D11: =C11 -> 1149.22 | E11: MXN | F11: Mensual | J11: Ma Inés
A12: 9 | B12: Durante este periodo no se entregaron estímulos | C12: 0 | D12: =C12 -> 0 | E12: MXN | F12: Durante este periodo no se entregaron estímulos | J12: Carlos Alberto
A13: 10 | B13: Durante este periodo no se entregaron estímulos | C13: 0 | D13: =C13 -> 0 | E13: MXN | F13: Durante este periodo no se entregaron estímulos | J13: Dulce Ivonne
A14: 11 | B14: Durante este periodo no se entregaron estímulos | C14: 0 | D14: =C14 -> 0 | E14: MXN | F14: Durante este periodo no se entregaron estímulos | J14: Alejandra
A15: 12 | B15: Durante este periodo no se entregaron estímulos | C15: 0 | D15: =C15 -> 0 | E15: MXN | F15: Durante este periodo no se entregaron estímulos | J15: Claudia Lizeth
... A17: 14 | B17: Durante este periodo no se entregaron estímulos | C17: 0 | D17: =C17 -> 0 | E17: MXN | F17: Durante este periodo no se entregaron estímulos | J17: Aldo de Jesús
A18: 15 | B18: Durante este periodo no se entregaron estímulos | C18: 0 | D18: =C18 -> 0 | E18: MXN | F18: Durante este periodo no se entregaron estímulos
A19: 16 | B19: Durante este periodo no se entregaron estímulos | C19: 0 | D19: =C19 -> 0 | E19: MXN | F19: Durante este periodo no se entregaron estímulos
A20: 17 | B20: Durante este periodo no se entregaron estímulos | C20: 0 | D20: =C20 -> 0 | E20: MXN | F20: Durante este periodo no se entregaron estímulos

Sheet Tabla_549553
B1: 1 | C1: 6 | D1: 6 | E1: 1 | F1: 1
B2: 70060 | C2: 70061 | D2: 70062 | E2: 70063 | F2: 70064
A3: ID | B3: Denominación de los apoyos económicos | C3: Monto bruto de los apoyos económicos | D3: Monto neto de los apoyos económicos | E3: Tipo de moneda de los apoyos económicos | F3: Periodicidad de los apoyos económicos
A4: 1 | B4: Este Organismo no genera apoyos económicos. Con fundamento legal en la Ley de Presupuesto de Egresos del Estado de San Luis Potosi para el ejercicio fiscal 2024, están consideradas en la mencionada Ley más sin embargo no son generados por este Sujeto Obligado. | C4: 0 | D4: 0 | E4: MXN | F4: Este Organismo no genera apoyos económicos. Con fundamento legal en la Ley de Presupuesto de Egresos del Estado de San Luis Potosi para el ejercicio fiscal 2024, están consideradas en la mencionada Ley más sin embargo no son generados por este Sujeto Obligado.
A5: 2 | B5: Este Organismo no genera apoyos económicos. Con fundamento legal en la Ley de Presupuesto de Egresos del Estado de San Luis Potosi para el ejercicio fiscal 2024, están consideradas en la mencionada Ley más sin embargo no son generados por este Sujeto Obligado. | C5: 0 | D5: 0 | E5: MXN | F5: Este Organismo no genera apoyos económicos. Con fundamento legal en la Ley de Presupuesto de Egresos del Estado de San Luis Potosi para el ejercicio fiscal 2024, están consideradas en la mencionada Ley más sin embargo no son generados por este Sujeto Obligado.
A6: 3 | B6: Este Organismo no genera apoyos económicos. Con fundamento legal en la Ley de Presupuesto de Egresos del Estado de San Luis Potosi para el ejercicio fiscal 2024, están consideradas en la mencionada Ley más sin embargo no son generados por este Sujeto Obligado. | C6: 0 | D6: 0 | E6: MXN | F6: Este Organismo no genera apoyos económicos. Con fundamento legal en la Ley de Presupuesto de Egresos del Estado de San Luis Potosi para el ejercicio fiscal 2024, están consideradas en la mencionada Ley más sin embargo no son generados por este Sujeto Obligado.
A7: 4 | B7: Este Organismo no genera apoyos económicos. Con fundamento legal en la Ley de Presupuesto de Egresos del Estado de San Luis Potosi para el ejercicio fiscal 2024, están consideradas en la mencionada Ley más sin embargo no son generados por este Sujeto Obligado. | C7: 0 | D7: 0 | E7: MXN | F7: Este Organismo no genera apoyos económicos. Con fundamento legal en la Ley de Presupuesto de Egresos del Estado de San Luis Potosi para el ejercicio fiscal 2024, están consideradas en la mencionada Ley más sin embargo no son generados por este Sujeto Obligado.
A8: 5 | B8: Este Organismo no genera apoyos económicos. Con fundamento legal en la Ley de Presupuesto de Egresos del Estado de San Luis Potosi para el ejercicio fiscal 2024, están consideradas en la mencionada Ley más sin embargo no son generados por este Sujeto Obligado. | C8: 0 | D8: 0 | E8: MXN | F8: Este Organismo no genera apoyos económicos. Con fundamento legal en la Ley de Presupuesto de Egresos del Estado de San Luis Potosi para el ejercicio fiscal 2024, están consideradas en la mencionada Ley más sin embargo no son generados por este Sujeto Obligado.
A9: 6 | B9: Este Organismo no genera apoyos económicos. Con fundamento legal en la Ley de Presupuesto de Egresos del Estado de San Luis Potosi para el ejercicio fiscal 2024, están consideradas en la mencionada Ley más sin embargo no son generados por este Sujeto Obligado. | C9: 0 | D9: 0 | E9: MXN | F9: Este Organismo no genera apoyos económicos. Con fundamento legal en la Ley de Presupuesto de Egresos del Estado de San Luis Potosi para el ejercicio fiscal 2024, están consideradas en la mencionada Ley más sin embargo no son generados por este Sujeto Obligado.
A10: 7 | B10: Este Organismo no genera apoyos económicos. Con fundamento legal en la Ley de Presupuesto de Egresos del Estado de San Luis Potosi para el ejercicio fiscal 2024, están consideradas en la mencionada Ley más sin embargo no son generados por este Sujeto Obligado. | C10: 0 | D10: 0 | E10: MXN | F10: Este Organismo no genera apoyos económicos. Con fundamento legal en la Ley de Presupuesto de Egresos del Estado de San Luis Potosi para el ejercicio fiscal 2024, están consideradas en la mencionada Ley más sin embargo no son generados por este Sujeto Obligado.
A11: 8 | B11: Este Organismo no genera apoyos económicos. Con fundamento legal en la Ley de Presupuesto de Egresos del Estado de San Luis Potosi para el ejercicio fiscal 2024, están consideradas en la mencionada Ley más sin embargo no son generados por este Sujeto Obligado. | C11: 0 | D11: 0 | E11: MXN | F11: Este Organismo no genera apoyos económicos. Con fundamento legal en la Ley de Presupuesto de Egresos del Estado de San Luis Potosi para el ejercicio fiscal 2024, están consideradas en la mencionada Ley más sin embargo no son generados por este Sujeto Obligado.
A12: 9 | B12: Este Organismo no genera apoyos económicos. Con fundamento legal en la Ley de Presupuesto de Egresos del Estado de San Luis Potosi para el ejercicio fiscal 2024, están consideradas en la mencionada Ley más sin embargo no son generados por este Sujeto Obligado. | C12: 0 | D12: 0 | E12: MXN | F12: Este Organismo no genera apoyos económicos. Con fundamento legal en la Ley de Presupuesto de Egresos del Estado de San Luis Potosi para el ejercicio fiscal 2024, están consideradas en la mencionada Ley más sin embargo no son generados por este Sujeto Obligado.
A13: 10 | B13: Este Organismo no genera apoyos económicos. Con fundamento legal en la Ley de Presupuesto de Egresos del Estado de San Luis Potosi para el ejercicio fiscal 2024, están consideradas en la mencionada Ley más sin embargo no son generados por este Sujeto Obligado. | C13: 0 | D13: 0 | E13: MXN | F13: Este Organismo no genera apoyos económicos. Con fundamento legal en la Ley de Presupuesto de Egresos del Estado de San Luis Potosi para el ejercicio fiscal 2024, están consideradas en la mencionada Ley más sin embargo no son generados por este Sujeto Obligado.
A14: 11 | B14: Este Organismo no genera apoyos económicos. Con fundamento legal en la Ley de Presupuesto de Egresos del Estado de San Luis Potosi para el ejercicio fiscal 2024, están consideradas en la mencionada Ley más sin embargo no son generados por este Sujeto Obligado. | C14: 0 | D14: 0 | E14: MXN | F14: Este Organismo no genera apoyos económicos. Con fundamento legal en la Ley de Presupuesto de Egresos del Estado de San Luis Potosi para el ejercicio fiscal 2024, están consideradas en la mencionada Ley más sin embargo no son generados por este Sujeto Obligado.
A15: 12 | B15: Este Organismo no genera apoyos económicos. Con fundamento legal en la Ley de Presupuesto de Egresos del Estado de San Luis Potosi para el ejercicio fiscal 2024, están consideradas en la mencionada Ley más sin embargo no son generados por este Sujeto Obligado. | C15: 0 | D15: 0 | E15: MXN | F15: Este Organismo no genera apoyos económicos. Con fundamento legal en la Ley de Presupuesto de Egresos del Estado de San Luis Potosi para el ejercicio fiscal 2024, están consideradas en la mencionada Ley más sin embargo no son generados por este Sujeto Obligado.
... A21: 18 | B21: Este Organismo no genera apoyos económicos. Con fundamento legal en la Ley de Presupuesto de Egresos del Estado de San Luis Potosi para el ejercicio fiscal 2024, están consideradas en la mencionada Ley más sin embargo no son generados por este Sujeto Obligado. | C21: 0 | D21: 0 | E21: MXN | F21: Este Organismo no genera apoyos económicos. Con fundamento legal en la Ley de Presupuesto de Egresos del Estado de San Luis Potosi para el ejercicio fiscal 2024, están consideradas en la mencionada Ley más sin embargo no son generados por este Sujeto Obligado.

Sheet Tabla_549550
B1: 1 | C1: 6 | D1: 6 | E1: 1 | F1: 1
B2: 70045 | C2: 70046 | D2: 70047 | E2: 70048 | F2: 70049
A3: ID | B3: Denominación de las prestaciones económicas | C3: Monto bruto de las prestaciones económicas | D3: Monto neto de las prestaciones económicas | E3: Tipo de moneda de las prestaciones económicas | F3: Periodicidad de las prestaciones económicas
A4: 1 | B4: Este Organismo no genera prestaciones económicas. Con fundamento legal en la Ley de Presupuesto de Egresos del Estado de San Luis Potosi para el ejercicio fiscal 2024, están consideradas en la mencionada Ley más sin embargo no son generados por este Sujeto Obligado. | C4: 0 | D4: 0 | E4: MXN | F4: Este Organismo no genera prestaciones económicas. Con fundamento legal en la Ley de Presupuesto de Egresos del Estado de San Luis Potosi para el ejercicio fiscal 2024, están consideradas en la mencionada Ley más sin embargo no son generados por este Sujeto Obligado.
A5: 2 | B5: Este Organismo no genera prestaciones económicas. Con fundamento legal en la Ley de Presupuesto de Egresos del Estado de San Luis Potosi para el ejercicio fiscal 2024, están consideradas en la mencionada Ley más sin embargo no son generados por este Sujeto Obligado. | C5: 0 | D5: 0 | E5: MXN | F5: Este Organismo no genera prestaciones económicas. Con fundamento legal en la Ley de Presupuesto de Egresos del Estado de San Luis Potosi para el ejercicio fiscal 2024, están consideradas en la mencionada Ley más sin embargo no son generados por este Sujeto Obligado.
A6: 3 | B6: Este Organismo no genera prestaciones económicas. Con fundamento legal en la Ley de Presupuesto de Egresos del Estado de San Luis Potosi para el ejercicio fiscal 2024, están consideradas en la mencionada Ley más sin embargo no son generados por este Sujeto Obligado. | C6: 0 | D6: 0 | E6: MXN | F6: Este Organismo no genera prestaciones económicas. Con fundamento legal en la Ley de Presupuesto de Egresos del Estado de San Luis Potosi para el ejercicio fiscal 2024, están consideradas en la mencionada Ley más sin embargo no son generados por este Sujeto Obligado.
A7: 4 | B7: Este Organismo no genera prestaciones económicas. Con fundamento legal en la Ley de Presupuesto de Egresos del Estado de San Luis Potosi para el ejercicio fiscal 2024, están consideradas en la mencionada Ley más sin embargo no son generados por este Sujeto Obligado. | C7: 0 | D7: 0 | E7: MXN | F7: Este Organismo no genera prestaciones económicas. Con fundamento legal en la Ley de Presupuesto de Egresos del Estado de San Luis Potosi para el ejercicio fiscal 2024, están consideradas en la mencionada Ley más sin embargo no son generados por este Sujeto Obligado.
A8: 5 | B8: Este Organismo no genera prestaciones económicas. Con fundamento legal en la Ley de Presupuesto de Egresos del Estado de San Luis Potosi para el ejercicio fiscal 2024, están consideradas en la mencionada Ley más sin embargo no son generados por este Sujeto Obligado. | C8: 0 | D8: 0 | E8: MXN | F8: Este Organismo no genera prestaciones económicas. Con fundamento legal en la Ley de Presupuesto de Egresos del Estado de San Luis Potosi para el ejercicio fiscal 2024, están consideradas en la mencionada Ley más sin embargo no son generados por este Sujeto Obligado.
A9: 6 | B9: Este Organismo no genera prestaciones económicas. Con fundamento legal en la Ley de Presupuesto de Egresos del Estado de San Luis Potosi para el ejercicio fiscal 2024, están consideradas en la mencionada Ley más sin embargo no son generados por este Sujeto Obligado. | C9: 0 | D9: 0 | E9: MXN | F9: Este Organismo no genera prestaciones económicas. Con fundamento legal en la Ley de Presupuesto de Egresos del Estado de San Luis Potosi para el ejercicio fiscal 2024, están consideradas en la mencionada Ley más sin embargo no son generados por este Sujeto Obligado.
A10: 7 | B10: Este Organismo no genera prestaciones económicas. Con fundamento legal en la Ley de Presupuesto de Egresos del Estado de San Luis Potosi para el ejercicio fiscal 2024, están consideradas en la mencionada Ley más sin embargo no son generados por este Sujeto Obligado. | C10: 0 | D10: 0 | E10: MXN | F10: Este Organismo no genera prestaciones económicas. Con fundamento legal en la Ley de Presupuesto de Egresos del Estado de San Luis Potosi para el ejercicio fiscal 2024, están consideradas en la mencionada Ley más sin embargo no son generados por este Sujeto Obligado.
A11: 8 | B11: Este Organismo no genera prestaciones económicas. Con fundamento legal en la Ley de Presupuesto de Egresos del Estado de San Luis Potosi para el ejercicio fiscal 2024, están consideradas en la mencionada Ley más sin embargo no son generados por este Sujeto Obligado. | C11: 0 | D11: 0 | E11: MXN | F11: Este Organismo no genera prestaciones económicas. Con fundamento legal en la Ley de Presupuesto de Egresos del Estado de San Luis Potosi para el ejercicio fiscal 2024, están consideradas en la mencionada Ley más sin embargo no son generados por este Sujeto Obligado.
A12: 9 | B12: Este Organismo no genera prestaciones económicas. Con fundamento legal en la Ley de Presupuesto de Egresos del Estado de San Luis Potosi para el ejercicio fiscal 2024, están consideradas en la mencionada Ley más sin embargo no son generados por este Sujeto Obligado. | C12: 0 | D12: 0 | E12: MXN | F12: Este Organismo no genera prestaciones económicas. Con fundamento legal en la Ley de Presupuesto de Egresos del Estado de San Luis Potosi para el ejercicio fiscal 2024, están consideradas en la mencionada Ley más sin embargo no son generados por este Sujeto Obligado.
A13: 10 | B13: Este Organismo no genera prestaciones económicas. Con fundamento legal en la Ley de Presupuesto de Egresos del Estado de San Luis Potosi para el ejercicio fiscal 2024, están consideradas en la mencionada Ley más sin embargo no son generados por este Sujeto Obligado. | C13: 0 | D13: 0 | E13: MXN | F13: Este Organismo no genera prestaciones económicas. Con fundamento legal en la Ley de Presupuesto de Egresos del Estado de San Luis Potosi para el ejercicio fiscal 2024, están consideradas en la mencionada Ley más sin embargo no son generados por este Sujeto Obligado.
A14: 11 | B14: Este Organismo no genera prestaciones económicas. Con fundamento legal en la Ley de Presupuesto de Egresos del Estado de San Luis Potosi para el ejercicio fiscal 2024, están consideradas en la mencionada Ley más sin embargo no son generados por este Sujeto Obligado. | C14: 0 | D14: 0 | E14: MXN | F14: Este Organismo no genera prestaciones económicas. Con fundamento legal en la Ley de Presupuesto de Egresos del Estado de San Luis Potosi para el ejercicio fiscal 2024, están consideradas en la mencionada Ley más sin embargo no son generados por este Sujeto Obligado.
A15: 12 | B15: Este Organismo no genera prestaciones económicas. Con fundamento legal en la Ley de Presupuesto de Egresos del Estado de San Luis Potosi para el ejercicio fiscal 2024, están consideradas en la mencionada Ley más sin embargo no son generados por este Sujeto Obligado. | C15: 0 | D15: 0 | E15: MXN | F15: Este Organismo no genera prestaciones económicas. Con fundamento legal en la Ley de Presupuesto de Egresos del Estado de San Luis Potosi para el ejercicio fiscal 2024, están consideradas en la mencionada Ley más sin embargo no son generados por este Sujeto Obligado.
... A22: 19 | B22: Este Organismo no genera prestaciones económicas. Con fundamento legal en la Ley de Presupuesto de Egresos del Estado de San Luis Potosi para el ejercicio fiscal 2024, están consideradas en la mencionada Ley más sin embargo no son generados por este Sujeto Obligado. | C22: 0 | D22: 0 | E22: MXN | F22: Este Organismo no genera prestaciones económicas. Con fundamento legal en la Ley de Presupuesto de Egresos del Estado de San Luis Potosi para el ejercicio fiscal 2024, están consideradas en la mencionada Ley más sin embargo no son generados por este Sujeto Obligado.

Sheet Tabla_549554
B1: 1 | C1: 1
B2: 70065 | C2: 70066
A3: ID | B3: Descripción de las prestaciones en especie | C3: Periodicidad de las prestaciones en especie
A4: 1 | B4: Este Organismo no genera prestaciones en especie Con fundamento legal en la Ley de Presupuesto de Egresos del Estado de San Luis Potosi para el ejercicio fiscal 2024, están consideradas en la mencionada Ley más sin embargo no son generados por este Sujeto Obligado. | C4: Este Organismo no genera prestaciones en especie Con fundamento legal en la Ley de Presupuesto de Egresos del Estado de San Luis Potosi para el ejercicio fiscal 2024, están consideradas en la mencionada Ley más sin embargo no son generados por este Sujeto Obligado.
A5: 2 | B5: Este Organismo no genera prestaciones en especie Con fundamento legal en la Ley de Presupuesto de Egresos del Estado de San Luis Potosi para el ejercicio fiscal 2024, están consideradas en la mencionada Ley más sin embargo no son generados por este Sujeto Obligado. | C5: Este Organismo no genera prestaciones en especie Con fundamento legal en la Ley de Presupuesto de Egresos del Estado de San Luis Potosi para el ejercicio fiscal 2024, están consideradas en la mencionada Ley más sin embargo no son generados por este Sujeto Obligado.
A6: 3 | B6: Este Organismo no genera prestaciones en especie Con fundamento legal en la Ley de Presupuesto de Egresos del Estado de San Luis Potosi para el ejercicio fiscal 2024, están consideradas en la mencionada Ley más sin embargo no son generados por este Sujeto Obligado. | C6: Este Organismo no genera prestaciones en especie Con fundamento legal en la Ley de Presupuesto de Egresos del Estado de San Luis Potosi para el ejercicio fiscal 2024, están consideradas en la mencionada Ley más sin embargo no son generados por este Sujeto Obligado.
A7: 4 | B7: Este Organismo no genera prestaciones en especie Con fundamento legal en la Ley de Presupuesto de Egresos del Estado de San Luis Potosi para el ejercicio fiscal 2024, están consideradas en la mencionada Ley más sin embargo no son generados por este Sujeto Obligado. | C7: Este Organismo no genera prestaciones en especie Con fundamento legal en la Ley de Presupuesto de Egresos del Estado de San Luis Potosi para el ejercicio fiscal 2024, están consideradas en la mencionada Ley más sin embargo no son generados por este Sujeto Obligado.
A8: 5 | B8: Este Organismo no genera prestaciones en especie Con fundamento legal en la Ley de Presupuesto de Egresos del Estado de San Luis Potosi para el ejercicio fiscal 2024, están consideradas en la mencionada Ley más sin embargo no son generados por este Sujeto Obligado. | C8: Este Organismo no genera prestaciones en especie Con fundamento legal en la Ley de Presupuesto de Egresos del Estado de San Luis Potosi para el ejercicio fiscal 2024, están consideradas en la mencionada Ley más sin embargo no son generados por este Sujeto Obligado.
A9: 6 | B9: Este Organismo no genera prestaciones en especie Con fundamento legal en la Ley de Presupuesto de Egresos del Estado de San Luis Potosi para el ejercicio fiscal 2024, están consideradas en la mencionada Ley más sin embargo no son generados por este Sujeto Obligado. | C9: Este Organismo no genera prestaciones en especie Con fundamento legal en la Ley de Presupuesto de Egresos del Estado de San Luis Potosi para el ejercicio fiscal 2024, están consideradas en la mencionada Ley más sin embargo no son generados por este Sujeto Obligado.
A10: 7 | B10: Este Organismo no genera prestaciones en especie Con fundamento legal en la Ley de Presupuesto de Egresos del Estado de San Luis Potosi para el ejercicio fiscal 2024, están consideradas en la mencionada Ley más sin embargo no son generados por este Sujeto Obligado. | C10: Este Organismo no genera prestaciones en especie Con fundamento legal en la Ley de Presupuesto de Egresos del Estado de San Luis Potosi para el ejercicio fiscal 2024, están consideradas en la mencionada Ley más sin embargo no son generados por este Sujeto Obligado.
A11: 8 | B11: Este Organismo no genera prestaciones en especie Con fundamento legal en la Ley de Presupuesto de Egresos del Estado de San Luis Potosi para el ejercicio fiscal 2024, están consideradas en la mencionada Ley más sin embargo no son generados por este Sujeto Obligado. | C11: Este Organismo no genera prestaciones en especie Con fundamento legal en la Ley de Presupuesto de Egresos del Estado de San Luis Potosi para el ejercicio fiscal 2024, están consideradas en la mencionada Ley más sin embargo no son generados por este Sujeto Obligado.
A12: 9 | B12: Este Organismo no genera prestaciones en especie Con fundamento legal en la Ley de Presupuesto de Egresos del Estado de San Luis Potosi para el ejercicio fiscal 2024, están consideradas en la mencionada Ley más sin embargo no son generados por este Sujeto Obligado. | C12: Este Organismo no genera prestaciones en especie Con fundamento legal en la Ley de Presupuesto de Egresos del Estado de San Luis Potosi para el ejercicio fiscal 2024, están consideradas en la mencionada Ley más sin embargo no son generados por este Sujeto Obligado.
A13: 10 | B13: Este Organismo no genera prestaciones en especie Con fundamento legal en la Ley de Presupuesto de Egresos del Estado de San Luis Potosi para el ejercicio fiscal 2024, están consideradas en la mencionada Ley más sin embargo no son generados por este Sujeto Obligado. | C13: Este Organismo no genera prestaciones en especie Con fundamento legal en la Ley de Presupuesto de Egresos del Estado de San Luis Potosi para el ejercicio fiscal 2024, están consideradas en la mencionada Ley más sin embargo no son generados por este Sujeto Obligado.
A14: 11 | B14: Este Organismo no genera prestaciones en especie Con fundamento legal en la Ley de Presupuesto de Egresos del Estado de San Luis Potosi para el ejercicio fiscal 2024, están consideradas en la mencionada Ley más sin embargo no son generados por este Sujeto Obligado. | C14: Este Organismo no genera prestaciones en especie Con fundamento legal en la Ley de Presupuesto de Egresos del Estado de San Luis Potosi para el ejercicio fiscal 2024, están consideradas en la mencionada Ley más sin embargo no son generados por este Sujeto Obligado.
A15: 12 | B15: Este Organismo no genera prestaciones en especie Con fundamento legal en la Ley de Presupuesto de Egresos del Estado de San Luis Potosi para el ejercicio fiscal 2024, están consideradas en la mencionada Ley más sin embargo no son generados por este Sujeto Obligado. | C15: Este Organismo no genera prestaciones en especie Con fundamento legal en la Ley de Presupuesto de Egresos del Estado de San Luis Potosi para el ejercicio fiscal 2024, están consideradas en la mencionada Ley más sin embargo no son generados por este Sujeto Obligado.
... A21: 18 | B21: Este Organismo no genera prestaciones en especie Con fundamento legal en la Ley de Presupuesto de Egresos del Estado de San Luis Potosi para el ejercicio fiscal 2024, están consideradas en la mencionada Ley más sin embargo no son generados por este Sujeto Obligado. | C21: Este Organismo no genera prestaciones en especie Con fundamento legal en la Ley de Presupuesto de Egresos del Estado de San Luis Potosi para el ejercicio fiscal 2024, están consideradas en la mencionada Ley más sin embargo no son generados por este Sujeto Obligado.
